Back to Multiple platform build/check report for BioC 3.15
ABCDEFGHIJKLMNOPQRS[T]UVWXYZ

This page was generated on 2022-01-18 11:08:35 -0500 (Tue, 18 Jan 2022).

HostnameOSArch (*)R versionInstalled pkgs
nebbiolo1Linux (Ubuntu 20.04.4 LTS)x86_64R Under development (unstable) (2022-01-05 r81451) -- "Unsuffered Consequences" 4161
riesling1Windows Server 2019 Standardx64R Under development (unstable) (2021-11-21 r81221) -- "Unsuffered Consequences" 4056
palomino3Windows Server 2022 Datacenterx64R Under development (unstable) (2021-12-21 r81400 ucrt) -- "Unsuffered Consequences" 3998
merida1macOS 10.14.6 Mojavex86_64R Under development (unstable) (2022-01-05 r81451) -- "Unsuffered Consequences" 4115
Click on any hostname to see more info about the system (e.g. compilers)      (*) as reported by 'uname -p', except on Windows and Mac OS X

BUILD BIN results for txcutr on riesling1


To the developers/maintainers of the txcutr package:
- Please allow up to 24 hours (and sometimes 48 hours) for your latest push to git@git.bioconductor.org:packages/txcutr.git to
reflect on this report. See How and When does the builder pull? When will my changes propagate? here for more information.
- Make sure to use the following settings in order to reproduce any error or warning you see on this page.

raw results

Package 2012/2074HostnameOS / ArchINSTALLBUILDCHECKBUILD BIN
txcutr 1.1.0  (landing page)
Mervin Fansler
Snapshot Date: 2022-01-17 13:55:17 -0500 (Mon, 17 Jan 2022)
git_url: https://git.bioconductor.org/packages/txcutr
git_branch: master
git_last_commit: a87e21d
git_last_commit_date: 2021-10-26 13:14:01 -0500 (Tue, 26 Oct 2021)
nebbiolo1Linux (Ubuntu 20.04.4 LTS) / x86_64  OK    OK    OK  UNNEEDED, same version is already published
riesling1Windows Server 2019 Standard / x64  OK    OK    OK    OK  
palomino3Windows Server 2022 Datacenter / x64  OK    OK    OK    OK  NO, package depends on 'AnnotationDbi' which is not available
merida1macOS 10.14.6 Mojave / x86_64  OK    OK    OK    OK  UNNEEDED, same version is already published

Summary

Package: txcutr
Version: 1.1.0
Command: rm -rf txcutr.buildbin-libdir && mkdir txcutr.buildbin-libdir && D:\biocbuild\bbs-3.15-bioc\R\bin\R.exe CMD INSTALL --build --library=txcutr.buildbin-libdir txcutr_1.1.0.tar.gz
StartedAt: 2022-01-17 21:28:00 -0500 (Mon, 17 Jan 2022)
EndedAt: 2022-01-17 21:28:59 -0500 (Mon, 17 Jan 2022)
EllapsedTime: 59.5 seconds
RetCode: 0
Status:   OK  
PackageFile: txcutr_1.1.0.zip
PackageFileSize: 347.4 KiB

Command output

##############################################################################
##############################################################################
###
### Running command:
###
###   rm -rf txcutr.buildbin-libdir && mkdir txcutr.buildbin-libdir && D:\biocbuild\bbs-3.15-bioc\R\bin\R.exe CMD INSTALL --build --library=txcutr.buildbin-libdir txcutr_1.1.0.tar.gz
###
##############################################################################
##############################################################################


* installing *source* package 'txcutr' ...
** using staged installation
** R
** inst
** byte-compile and prepare package for lazy loading
** help
*** installing help indices
  converting help for package 'txcutr'
    finding HTML links ... done
    dot-clipTranscript                      html  
    dot-fillReduce                          html  
    dot-mutateEach-CompressedGRangesList-method
                                            html  
    dot-propagateMap                        html  
    exportFASTA                             html  
    exportGTF                               html  
    exportMergeTable                        html  
    generateMergeTable                      html  
    truncateTxome                           html  
    finding level-2 HTML links ... done

    txdbToGRangesList                       html  
** building package indices
** installing vignettes
** testing if installed package can be loaded from temporary location
** testing if installed package can be loaded from final location
** testing if installed package keeps a record of temporary installation path
* MD5 sums
packaged installation of 'txcutr' as txcutr_1.1.0.zip
* DONE (txcutr)