Name | Last modified | Size | Description | |
---|---|---|---|---|
Parent Directory | - | |||
install-summary.dcf | 12-Jun-2024 04:43 | 272 | ||
install-out.txt | 12-Jun-2024 04:43 | 3.7K | ||
buildsrc-summary.dcf | 12-Jun-2024 04:43 | 435 | ||
buildsrc-out.txt | 12-Jun-2024 04:43 | 917 | ||
checksrc-out.txt | 12-Jun-2024 04:43 | 4.2K | ||
checksrc-summary.dcf | 12-Jun-2024 04:43 | 457 | ||
buildbin-out.txt | 12-Jun-2024 04:43 | 5.6K | ||
buildbin-summary.dcf | 12-Jun-2024 04:43 | 541 | ||