Index of /checkResults/devel/bioc-LATEST/ttgsea/raw-results/kunpeng2
Name
Last modified
Size
Description
Parent Directory
-
buildsrc-out.txt
16-May-2024 02:46
853
buildsrc-summary.dcf
16-May-2024 02:46
423
install-out.txt
16-May-2024 02:46
963
install-summary.dcf
16-May-2024 02:46
268