Index of /checkResults/devel/bioc-LATEST/ttgsea/raw-results/kjohnson3
Name
Last modified
Size
Description
Parent Directory
-
install-summary.dcf
29-Jun-2024 00:41
266
install-out.txt
29-Jun-2024 00:41
1.0K
buildsrc-summary.dcf
29-Jun-2024 00:41
341
buildsrc-out.txt
29-Jun-2024 00:41
1.4K