Back to Multiple platform build/check report for BioC 3.16
ABCDEFGHIJKLMNOPQRS[T]UVWXYZ

This page was generated on 2022-05-26 11:02:44 -0400 (Thu, 26 May 2022).

HostnameOSArch (*)R versionInstalled pkgs
nebbiolo2Linux (Ubuntu 20.04.4 LTS)x86_644.2.0 RC (2022-04-21 r82226) -- "Vigorous Calisthenics" 4357
palomino4Windows Server 2022 Datacenterx644.2.0 Patched (2022-04-24 r82246 ucrt) -- "Vigorous Calisthenics" 4159
Click on any hostname to see more info about the system (e.g. compilers)      (*) as reported by 'uname -p', except on Windows and Mac OS X

All results for package tspair


To the developers/maintainers of the tspair package:
- Please allow up to 24 hours (and sometimes 48 hours) for your latest push to git@git.bioconductor.org:packages/tspair.git to
reflect on this report. See How and When does the builder pull? When will my changes propagate? for more information.
- Make sure to use the following settings in order to reproduce any error or warning you see on this page.

raw results

Package 2039/2112HostnameOS / ArchINSTALLBUILDCHECKBUILD BIN
tspair 1.55.0  (landing page)
Jeffrey T. Leek
Snapshot Date: 2022-05-25 14:00:04 -0400 (Wed, 25 May 2022)
git_url: https://git.bioconductor.org/packages/tspair
git_branch: master
git_last_commit: 442b48b
git_last_commit_date: 2022-04-26 11:02:33 -0400 (Tue, 26 Apr 2022)
nebbiolo2Linux (Ubuntu 20.04.4 LTS) / x86_64  OK    ERROR  skipped
palomino4Windows Server 2022 Datacenter / x64  OK    ERROR  skippedskipped