Back to Multiple platform build/check report for BioC 3.15
ABCDEFGHIJKLMNOPQRS[T]UVWXYZ

This page was generated on 2021-11-30 13:55:17 -0500 (Tue, 30 Nov 2021).

BUILD BIN results for trigger on riesling1

To the developers/maintainers of the trigger package:
- Please allow up to 24 hours (and sometimes 48 hours) for your latest push to git@git.bioconductor.org:packages/trigger.git to
reflect on this report. See How and When does the builder pull? When will my changes propagate? here for more information.
- Make sure to use the following settings in order to reproduce any error or warning you see on this page.

raw results

Package 1987/2068HostnameOS / ArchINSTALLBUILDCHECKBUILD BIN
trigger 1.41.0  (landing page)
John D. Storey
Snapshot Date: 2021-11-29 14:50:17 -0500 (Mon, 29 Nov 2021)
git_url: https://git.bioconductor.org/packages/trigger
git_branch: master
git_last_commit: dcf2dad
git_last_commit_date: 2021-10-26 12:01:26 -0500 (Tue, 26 Oct 2021)
nebbiolo1Linux (Ubuntu 20.04.3 LTS) / x86_64  OK    OK    OK  UNNEEDED, same version is already published
riesling1Windows Server 2019 Standard / x64  OK    OK    OK    OK  
merida1macOS 10.14.6 Mojave / x86_64  OK    OK    OK    OK  UNNEEDED, same version is already published

Summary

Package: trigger
Version: 1.41.0
Command: rm -rf trigger.buildbin-libdir && mkdir trigger.buildbin-libdir && D:\biocbuild\bbs-3.15-bioc\R\bin\R.exe CMD INSTALL --merge-multiarch --build --library=trigger.buildbin-libdir trigger_1.41.0.tar.gz
StartedAt: 2021-11-30 08:54:12 -0500 (Tue, 30 Nov 2021)
EndedAt: 2021-11-30 08:59:10 -0500 (Tue, 30 Nov 2021)
EllapsedTime: 297.7 seconds
RetCode: 0
Status:   OK  
PackageFile: trigger_1.41.0.zip
PackageFileSize: 2.111 MiB

Command output

##############################################################################
##############################################################################
###
### Running command:
###
###   rm -rf trigger.buildbin-libdir && mkdir trigger.buildbin-libdir && D:\biocbuild\bbs-3.15-bioc\R\bin\R.exe CMD INSTALL --merge-multiarch --build --library=trigger.buildbin-libdir trigger_1.41.0.tar.gz
###
##############################################################################
##############################################################################


only one architecture so ignoring '--merge-multiarch'
* installing *source* package 'trigger' ...
** using staged installation
** libs
"C:/rtools40/mingw64/bin/"gcc  -I"D:/biocbuild/bbs-3.15-bioc/R/include" -DNDEBUG     -I"C:/extsoft/include"     -O2 -Wall  -std=gnu99 -mfpmath=sse -msse2 -mstackrealign -fno-reorder-blocks-and-partition  -c trigger.c -o trigger.o
trigger.c: In function 'mergeorder':
trigger.c:25:20: warning: variable 'n3' set but not used [-Wunused-but-set-variable]
 int i1,i2,i3,n1,n2,n3;
                    ^~
trigger.c: In function 'sec_link_stat':
trigger.c:81:10: warning: variable 'nct' set but not used [-Wunused-but-set-variable]
 int ntr, nct, i, j;
          ^~~
trigger.c: In function 'sec_link_stat_x':
trigger.c:153:10: warning: variable 'nct' set but not used [-Wunused-but-set-variable]
 int ntr, nct, i, j, k, nk;
          ^~~
trigger.c: In function 'condi_indep_stat':
trigger.c:233:10: warning: variable 'nct' set but not used [-Wunused-but-set-variable]
 int ntr, nct, i, j;
          ^~~
trigger.c: In function 'condi_indep_stat_x':
trigger.c:310:10: warning: variable 'nct' set but not used [-Wunused-but-set-variable]
 int ntr, nct, i, j, k, nk;
          ^~~
trigger.c: In function 'condi_indep_stat_rx':
trigger.c:393:10: warning: variable 'nct' set but not used [-Wunused-but-set-variable]
 int ntr, nct, i, j, k, nk;
          ^~~
C:/rtools40/mingw64/bin/gcc -shared -s -static-libgcc -o trigger.dll tmp.def trigger.o -LC:/extsoft/lib/x64 -LC:/extsoft/lib -LD:/biocbuild/bbs-3.15-bioc/R/bin/x64 -lR
installing to D:/biocbuild/bbs-3.15-bioc/meat/trigger.buildbin-libdir/00LOCK-trigger/00new/trigger/libs/x64
** R
** data
** inst
** byte-compile and prepare package for lazy loading
** help
*** installing help indices
  converting help for package 'trigger'
    finding HTML links ... done
    plot                                    html  
    trigger-build                           html  
    trigger-class                           html  
    trigger-eigenR2                         html  
    trigger-export2cross                    html  
    trigger-link                            html  
    trigger-loclink                         html  
    trigger-mlink                           html  
    trigger-net                             html  
    trigger-netPlot2ps                      html  
    trigger-trait                           html  
    yeast                                   html  
** building package indices
** installing vignettes
** testing if installed package can be loaded from temporary location
** testing if installed package can be loaded from final location
** testing if installed package keeps a record of temporary installation path
* MD5 sums
packaged installation of 'trigger' as trigger_1.41.0.zip
* DONE (trigger)