Index of /checkResults/devel/bioc-LATEST/trigger/raw-results/nebbiolo2

[ICO]NameLast modifiedSizeDescription

[DIR]Parent Directory  -  
[TXT]buildsrc-out.txt07-Jul-2022 00:06 899  
[   ]buildsrc-summary.dcf07-Jul-2022 00:06 416  
[TXT]checksrc-out.txt07-Jul-2022 00:06 3.7K 
[   ]checksrc-summary.dcf07-Jul-2022 00:06 424  
[TXT]install-out.txt07-Jul-2022 00:06 2.5K 
[   ]install-summary.dcf07-Jul-2022 00:06 259