Back to Multiple platform build/check report for BioC 3.15
ABCDEFGHIJKLMNOPQRS[T]UVWXYZ

This page was generated on 2021-11-30 13:55:45 -0500 (Tue, 30 Nov 2021).

INSTALL results for trigger on merida1

To the developers/maintainers of the trigger package:
- Please allow up to 24 hours (and sometimes 48 hours) for your latest push to git@git.bioconductor.org:packages/trigger.git to
reflect on this report. See How and When does the builder pull? When will my changes propagate? here for more information.
- Make sure to use the following settings in order to reproduce any error or warning you see on this page.

raw results

Package 1987/2068HostnameOS / ArchINSTALLBUILDCHECKBUILD BIN
trigger 1.41.0  (landing page)
John D. Storey
Snapshot Date: 2021-11-29 14:50:17 -0500 (Mon, 29 Nov 2021)
git_url: https://git.bioconductor.org/packages/trigger
git_branch: master
git_last_commit: dcf2dad
git_last_commit_date: 2021-10-26 12:01:26 -0500 (Tue, 26 Oct 2021)
nebbiolo1Linux (Ubuntu 20.04.3 LTS) / x86_64  OK    OK    OK  UNNEEDED, same version is already published
riesling1Windows Server 2019 Standard / x64  OK    OK    OK    OK  
merida1macOS 10.14.6 Mojave / x86_64  OK    OK    OK    OK  UNNEEDED, same version is already published

Summary

Package: trigger
Version: 1.41.0
Command: /Library/Frameworks/R.framework/Resources/bin/R CMD INSTALL trigger
StartedAt: 2021-11-29 17:18:39 -0500 (Mon, 29 Nov 2021)
EndedAt: 2021-11-29 17:19:37 -0500 (Mon, 29 Nov 2021)
EllapsedTime: 57.5 seconds
RetCode: 0
Status:   OK  

Command output

##############################################################################
##############################################################################
###
### Running command:
###
###   /Library/Frameworks/R.framework/Resources/bin/R CMD INSTALL trigger
###
##############################################################################
##############################################################################


* installing to library ‘/Library/Frameworks/R.framework/Versions/4.2/Resources/library’
* installing *source* package ‘trigger’ ...
** using staged installation
** libs
clang -mmacosx-version-min=10.13 -I"/Library/Frameworks/R.framework/Resources/include" -DNDEBUG   -I/usr/local/include   -fPIC  -Wall -g -O2  -c trigger.c -o trigger.o
clang -mmacosx-version-min=10.13 -dynamiclib -Wl,-headerpad_max_install_names -undefined dynamic_lookup -single_module -multiply_defined suppress -L/Library/Frameworks/R.framework/Resources/lib -L/usr/local/lib -o trigger.so trigger.o -F/Library/Frameworks/R.framework/.. -framework R -Wl,-framework -Wl,CoreFoundation
installing to /Library/Frameworks/R.framework/Versions/4.2/Resources/library/00LOCK-trigger/00new/trigger/libs
** R
** data
** inst
** byte-compile and prepare package for lazy loading
** help
*** installing help indices
** building package indices
** installing vignettes
** testing if installed package can be loaded from temporary location
** checking absolute paths in shared objects and dynamic libraries
** testing if installed package can be loaded from final location
** testing if installed package keeps a record of temporary installation path
* DONE (trigger)