Back to Multiple platform build/check report for BioC 3.15
ABCDEFGHIJKLMNOPQRS[T]UVWXYZ

This page was generated on 2021-11-30 13:55:45 -0500 (Tue, 30 Nov 2021).

BUILD results for trigger on merida1

To the developers/maintainers of the trigger package:
- Please allow up to 24 hours (and sometimes 48 hours) for your latest push to git@git.bioconductor.org:packages/trigger.git to
reflect on this report. See How and When does the builder pull? When will my changes propagate? here for more information.
- Make sure to use the following settings in order to reproduce any error or warning you see on this page.

raw results

Package 1987/2068HostnameOS / ArchINSTALLBUILDCHECKBUILD BIN
trigger 1.41.0  (landing page)
John D. Storey
Snapshot Date: 2021-11-29 14:50:17 -0500 (Mon, 29 Nov 2021)
git_url: https://git.bioconductor.org/packages/trigger
git_branch: master
git_last_commit: dcf2dad
git_last_commit_date: 2021-10-26 12:01:26 -0500 (Tue, 26 Oct 2021)
nebbiolo1Linux (Ubuntu 20.04.3 LTS) / x86_64  OK    OK    OK  UNNEEDED, same version is already published
riesling1Windows Server 2019 Standard / x64  OK    OK    OK    OK  
merida1macOS 10.14.6 Mojave / x86_64  OK    OK    OK    OK  UNNEEDED, same version is already published

Summary

Package: trigger
Version: 1.41.0
Command: /Library/Frameworks/R.framework/Resources/bin/R CMD build --keep-empty-dirs --no-resave-data trigger
StartedAt: 2021-11-29 23:47:31 -0500 (Mon, 29 Nov 2021)
EndedAt: 2021-11-29 23:50:46 -0500 (Mon, 29 Nov 2021)
EllapsedTime: 194.7 seconds
RetCode: 0
Status:   OK  
PackageFile: trigger_1.41.0.tar.gz
PackageFileSize: 1.734 MiB

Command output

##############################################################################
##############################################################################
###
### Running command:
###
###   /Library/Frameworks/R.framework/Resources/bin/R CMD build --keep-empty-dirs --no-resave-data trigger
###
##############################################################################
##############################################################################


* checking for file ‘trigger/DESCRIPTION’ ... OK
* preparing ‘trigger’:
* checking DESCRIPTION meta-information ... OK
* cleaning src
* installing the package to build vignettes
* creating vignettes ... OK
* cleaning src
* checking for LF line-endings in source and make files and shell scripts
* checking for empty or unneeded directories
* looking to see if a ‘data/datalist’ file should be added
* building ‘trigger_1.41.0.tar.gz’