Back to Multiple platform build/check report for BioC 3.15
ABCDEFGHIJKLMNOPQRS[T]UVWXYZ

This page was generated on 2022-01-20 11:08:34 -0500 (Thu, 20 Jan 2022).

HostnameOSArch (*)R versionInstalled pkgs
nebbiolo1Linux (Ubuntu 20.04.4 LTS)x86_64R Under development (unstable) (2022-01-05 r81451) -- "Unsuffered Consequences" 4162
riesling1Windows Server 2019 Standardx64R Under development (unstable) (2021-11-21 r81221) -- "Unsuffered Consequences" 4057
palomino3Windows Server 2022 Datacenterx64R Under development (unstable) (2021-12-21 r81400 ucrt) -- "Unsuffered Consequences" 3999
merida1macOS 10.14.6 Mojavex86_64R Under development (unstable) (2022-01-05 r81451) -- "Unsuffered Consequences" 4116
Click on any hostname to see more info about the system (e.g. compilers)      (*) as reported by 'uname -p', except on Windows and Mac OS X

BUILD BIN results for tricycle on riesling1


To the developers/maintainers of the tricycle package:
- Please allow up to 24 hours (and sometimes 48 hours) for your latest push to git@git.bioconductor.org:packages/tricycle.git to
reflect on this report. See How and When does the builder pull? When will my changes propagate? here for more information.
- Make sure to use the following settings in order to reproduce any error or warning you see on this page.

raw results

Package 1992/2074HostnameOS / ArchINSTALLBUILDCHECKBUILD BIN
tricycle 1.3.3  (landing page)
Shijie Zheng
Snapshot Date: 2022-01-19 13:55:26 -0500 (Wed, 19 Jan 2022)
git_url: https://git.bioconductor.org/packages/tricycle
git_branch: master
git_last_commit: f273974
git_last_commit_date: 2021-12-01 09:50:03 -0500 (Wed, 01 Dec 2021)
nebbiolo1Linux (Ubuntu 20.04.4 LTS) / x86_64  OK    OK    WARNINGS  UNNEEDED, same version is already published
riesling1Windows Server 2019 Standard / x64  OK    OK    WARNINGS    OK  
palomino3Windows Server 2022 Datacenter / x64  OK    OK    WARNINGS    OK  NO, package depends on 'SingleCellExperiment' which is not available
merida1macOS 10.14.6 Mojave / x86_64  OK    OK    WARNINGS    OK  UNNEEDED, same version is already published

Summary

Package: tricycle
Version: 1.3.3
Command: rm -rf tricycle.buildbin-libdir && mkdir tricycle.buildbin-libdir && D:\biocbuild\bbs-3.15-bioc\R\bin\R.exe CMD INSTALL --build --library=tricycle.buildbin-libdir tricycle_1.3.3.tar.gz
StartedAt: 2022-01-19 21:26:17 -0500 (Wed, 19 Jan 2022)
EndedAt: 2022-01-19 21:27:22 -0500 (Wed, 19 Jan 2022)
EllapsedTime: 65.7 seconds
RetCode: 0
Status:   OK  
PackageFile: tricycle_1.3.3.zip
PackageFileSize: 3.742 MiB

Command output

##############################################################################
##############################################################################
###
### Running command:
###
###   rm -rf tricycle.buildbin-libdir && mkdir tricycle.buildbin-libdir && D:\biocbuild\bbs-3.15-bioc\R\bin\R.exe CMD INSTALL --build --library=tricycle.buildbin-libdir tricycle_1.3.3.tar.gz
###
##############################################################################
##############################################################################


* installing *source* package 'tricycle' ...
** using staged installation
** R
** data
** inst
** byte-compile and prepare package for lazy loading
** help
*** installing help indices
  converting help for package 'tricycle'
    finding HTML links ... done
    RevelioGeneList                         html  
    circle_scale_legend                     html  
    diagnose_totalumi                       html  
    estimate_Schwabe_stage                  html  
    finding level-2 HTML links ... done

    estimate_cycle_position                 html  
    fit_periodic_loess                      html  
    neuroRef                                html  
    neurosphere_example                     html  
    plot_ccposition_den                     html  
    plot_emb_circle_scale                   html  
    project_cycle_space                     html  
    run_pca_cc_genes                        html  
*** copying figures
** building package indices
** installing vignettes
** testing if installed package can be loaded from temporary location
** testing if installed package can be loaded from final location
** testing if installed package keeps a record of temporary installation path
* MD5 sums
packaged installation of 'tricycle' as tricycle_1.3.3.zip
* DONE (tricycle)