![]() | Name | Last modified | Size | Description |
---|---|---|---|---|
![]() | Parent Directory | - | ||
![]() | buildsrc-out.txt | 03-Oct-2023 00:37 | 872 | |
![]() | buildsrc-summary.dcf | 03-Oct-2023 00:37 | 418 | |
![]() | checksrc-out.txt | 03-Oct-2023 00:37 | 4.0K | |
![]() | checksrc-summary.dcf | 03-Oct-2023 00:37 | 416 | |
![]() | install-out.txt | 03-Oct-2023 00:37 | 1.0K | |
![]() | install-summary.dcf | 03-Oct-2023 00:37 | 260 | |