Index of /checkResults/devel/bioc-LATEST/trena/raw-results/palomino4

[ICO]NameLast modifiedSizeDescription

[DIR]Parent Directory  -  
[TXT]buildbin-out.txt04-Jun-2022 00:07 1.3K 
[   ]buildbin-summary.dcf04-Jun-2022 00:07 521  
[TXT]buildsrc-out.txt02-Jul-2022 00:07 911  
[   ]buildsrc-summary.dcf02-Jul-2022 00:07 446  
[TXT]checksrc-out.txt04-Jun-2022 00:07 3.3K 
[   ]checksrc-summary.dcf04-Jun-2022 00:07 448  
[TXT]install-out.txt02-Jul-2022 00:07 1.3K 
[   ]install-summary.dcf02-Jul-2022 00:07 612