Index of /checkResults/devel/bioc-LATEST/trena/raw-results/nebbiolo2

[ICO]NameLast modifiedSizeDescription

[DIR]Parent Directory  -  
[TXT]buildsrc-out.txt02-Jul-2022 00:05 861  
[   ]buildsrc-summary.dcf02-Jul-2022 00:05 328  
[TXT]checksrc-out.txt04-Jun-2022 00:05 3.3K 
[   ]checksrc-summary.dcf04-Jun-2022 00:05 422  
[TXT]install-out.txt02-Jul-2022 00:05 616  
[   ]install-summary.dcf02-Jul-2022 00:05 257