Index of /checkResults/devel/bioc-LATEST/trena/raw-results/lconway

[ICO]NameLast modifiedSizeDescription

[DIR]Parent Directory  -  
[TXT]buildbin-out.txt04-Jun-2022 00:08 1.3K 
[   ]buildbin-summary.dcf04-Jun-2022 00:08 518  
[TXT]buildsrc-out.txt02-Jul-2022 00:08 877  
[   ]buildsrc-summary.dcf02-Jul-2022 00:08 338  
[TXT]checksrc-out.txt04-Jun-2022 00:08 3.4K 
[   ]checksrc-summary.dcf04-Jun-2022 00:08 442  
[TXT]install-out.txt02-Jul-2022 00:08 672  
[   ]install-summary.dcf02-Jul-2022 00:08 267