Index of /checkResults/devel/bioc-LATEST/trena/raw-results

[ICO]NameLast modifiedSizeDescription

[DIR]Parent Directory  -  
[DIR]palomino4/25-Jun-2022 00:07 -  
[DIR]nebbiolo2/25-Jun-2022 00:05 -  
[DIR]lconway/25-Jun-2022 00:08 -  
[   ]info.dcf25-Jun-2022 00:08 272