Index of /checkResults/devel/bioc-LATEST/treekoR/raw-results/kunpeng2
Name
Last modified
Size
Description
Parent Directory
-
install-summary.dcf
16-May-2024 02:46
270
buildsrc-summary.dcf
16-May-2024 02:46
429
buildsrc-out.txt
16-May-2024 02:46
880
install-out.txt
16-May-2024 02:46
1.0K