Back to Multiple platform build/check report for BioC 3.16
ABCDEFGHIJKLMNOPQRS[T]UVWXYZ

This page was generated on 2022-08-11 11:07:37 -0400 (Thu, 11 Aug 2022).

HostnameOSArch (*)R versionInstalled pkgs
nebbiolo2Linux (Ubuntu 20.04.4 LTS)x86_644.2.1 (2022-06-23) -- "Funny-Looking Kid" 4375
palomino4Windows Server 2022 Datacenterx644.2.1 (2022-06-23 ucrt) -- "Funny-Looking Kid" 4159
lconwaymacOS 12.2.1 Montereyx86_644.2.1 Patched (2022-07-09 r82577) -- "Funny-Looking Kid" 4165
Click on any hostname to see more info about the system (e.g. compilers)      (*) as reported by 'uname -p', except on Windows and Mac OS X

CHECK results for traviz on palomino4


To the developers/maintainers of the traviz package:
- Please allow up to 24 hours (and sometimes 48 hours) for your latest push to git@git.bioconductor.org:packages/traviz.git to
reflect on this report. See How and When does the builder pull? When will my changes propagate? for more information.
- Make sure to use the following settings in order to reproduce any error or warning you see on this page.

raw results

Package 2045/2139HostnameOS / ArchINSTALLBUILDCHECKBUILD BIN
traviz 1.3.0  (landing page)
Koen Van den Berge
Snapshot Date: 2022-08-10 14:00:02 -0400 (Wed, 10 Aug 2022)
git_url: https://git.bioconductor.org/packages/traviz
git_branch: master
git_last_commit: a7d34ef
git_last_commit_date: 2022-04-26 12:17:44 -0400 (Tue, 26 Apr 2022)
nebbiolo2Linux (Ubuntu 20.04.4 LTS) / x86_64  OK    OK    OK  UNNEEDED, same version is already published
palomino4Windows Server 2022 Datacenter / x64  OK    OK    OK    OK  UNNEEDED, same version is already published
lconwaymacOS 12.2.1 Monterey / x86_64  ERROR    ERROR  skippedskipped

Summary

Package: traviz
Version: 1.3.0
Command: F:\biocbuild\bbs-3.16-bioc\R\bin\R.exe CMD check --force-multiarch --install=check:traviz.install-out.txt --library=F:\biocbuild\bbs-3.16-bioc\R\library --no-vignettes --timings traviz_1.3.0.tar.gz
StartedAt: 2022-08-11 06:51:34 -0400 (Thu, 11 Aug 2022)
EndedAt: 2022-08-11 06:55:11 -0400 (Thu, 11 Aug 2022)
EllapsedTime: 216.5 seconds
RetCode: 0
Status:   OK  
CheckDir: traviz.Rcheck
Warnings: 0

Command output

##############################################################################
##############################################################################
###
### Running command:
###
###   F:\biocbuild\bbs-3.16-bioc\R\bin\R.exe CMD check --force-multiarch --install=check:traviz.install-out.txt --library=F:\biocbuild\bbs-3.16-bioc\R\library --no-vignettes --timings traviz_1.3.0.tar.gz
###
##############################################################################
##############################################################################


* using log directory 'F:/biocbuild/bbs-3.16-bioc/meat/traviz.Rcheck'
* using R version 4.2.1 (2022-06-23 ucrt)
* using platform: x86_64-w64-mingw32 (64-bit)
* using session charset: UTF-8
* using option '--no-vignettes'
* checking for file 'traviz/DESCRIPTION' ... OK
* checking extension type ... Package
* this is package 'traviz' version '1.3.0'
* package encoding: UTF-8
* checking package namespace information ... OK
* checking package dependencies ... OK
* checking if this is a source package ... OK
* checking if there is a namespace ... OK
* checking for hidden files and directories ... OK
* checking for portable file names ... OK
* checking whether package 'traviz' can be installed ... OK
* checking installed package size ... OK
* checking package directory ... OK
* checking 'build' directory ... OK
* checking DESCRIPTION meta-information ... NOTE
Malformed Title field: should not end in a period.
Invalid license file pointers: LICENSE
* checking top-level files ... OK
* checking for left-over files ... OK
* checking index information ... OK
* checking package subdirectories ... OK
* checking R files for non-ASCII characters ... OK
* checking R files for syntax errors ... OK
* checking whether the package can be loaded ... OK
* checking whether the package can be loaded with stated dependencies ... OK
* checking whether the package can be unloaded cleanly ... OK
* checking whether the namespace can be loaded with stated dependencies ... OK
* checking whether the namespace can be unloaded cleanly ... OK
* checking dependencies in R code ... OK
* checking S3 generic/method consistency ... OK
* checking replacement functions ... OK
* checking foreign function calls ... OK
* checking R code for possible problems ... NOTE
.plotGeneCount: no visible binding for global variable 'dim1'
.plotGeneCount: no visible binding for global variable 'dim2'
.plotSmoothers: no visible binding for global variable 'time'
.plotSmoothers: no visible binding for global variable 'gene_count'
.plotSmoothers: no visible binding for global variable 'lineage'
.plotSmoothers_conditions: no visible binding for global variable
  'time'
.plotSmoothers_conditions: no visible binding for global variable
  'gene_count'
.plotSmoothers_conditions: no visible binding for global variable
  'lineage'
.plotSmoothers_conditions: no visible binding for global variable
  'pCol'
.plotSmoothers_sce: no visible binding for global variable 'time'
.plotSmoothers_sce: no visible binding for global variable 'gene_count'
.plotSmoothers_sce: no visible binding for global variable 'lineage'
.plotSmoothers_sce: no visible binding for global variable 'pCol'
plot3d.SlingshotDataSet : <anonymous>: no visible binding for global
  variable 'weighted.mean'
plot,SlingshotDataSet-ANY : <anonymous>: no visible binding for global
  variable 'weighted.mean'
plotExpression,matrix-SlingshotDataSet-character: no visible global
  function definition for 'loess'
plotExpression,matrix-SlingshotDataSet-character: no visible binding
  for global variable 'lineage'
Undefined global functions or variables:
  dim1 dim2 gene_count lineage loess pCol time weighted.mean
Consider adding
  importFrom("stats", "loess", "time", "weighted.mean")
to your NAMESPACE file.
* checking Rd files ... OK
* checking Rd metadata ... OK
* checking Rd cross-references ... OK
* checking for missing documentation entries ... OK
* checking for code/documentation mismatches ... OK
* checking Rd \usage sections ... OK
* checking Rd contents ... OK
* checking for unstated dependencies in examples ... OK
* checking contents of 'data' directory ... OK
* checking data for non-ASCII characters ... OK
* checking data for ASCII and uncompressed saves ... OK
* checking files in 'vignettes' ... OK
* checking examples ... OK
* checking for unstated dependencies in 'tests' ... OK
* checking tests ...
  Running 'testthat.R'
 OK
* checking for unstated dependencies in vignettes ... OK
* checking package vignettes in 'inst/doc' ... OK
* checking running R code from vignettes ... SKIPPED
* checking re-building of vignette outputs ... SKIPPED
* checking PDF version of manual ... OK
* DONE

Status: 2 NOTEs
See
  'F:/biocbuild/bbs-3.16-bioc/meat/traviz.Rcheck/00check.log'
for details.



Installation output

traviz.Rcheck/00install.out

##############################################################################
##############################################################################
###
### Running command:
###
###   C:\cygwin\bin\curl.exe -O http://155.52.207.166/BBS/3.16/bioc/src/contrib/traviz_1.3.0.tar.gz && rm -rf traviz.buildbin-libdir && mkdir traviz.buildbin-libdir && F:\biocbuild\bbs-3.16-bioc\R\bin\R.exe CMD INSTALL --merge-multiarch --build --library=traviz.buildbin-libdir traviz_1.3.0.tar.gz && F:\biocbuild\bbs-3.16-bioc\R\bin\R.exe CMD INSTALL traviz_1.3.0.zip && rm traviz_1.3.0.tar.gz traviz_1.3.0.zip
###
##############################################################################
##############################################################################


  % Total    % Received % Xferd  Average Speed   Time    Time     Time  Current
                                 Dload  Upload   Total   Spent    Left  Speed

  0     0    0     0    0     0      0      0 --:--:-- --:--:-- --:--:--     0
100 2367k  100 2367k    0     0  12.3M      0 --:--:-- --:--:-- --:--:-- 12.4M
only one architecture so ignoring '--merge-multiarch'
* installing *source* package 'traviz' ...
** using staged installation
** R
** data
** byte-compile and prepare package for lazy loading
** help
*** installing help indices
** building package indices
** installing vignettes
** testing if installed package can be loaded from temporary location
** testing if installed package can be loaded from final location
** testing if installed package keeps a record of temporary installation path
* MD5 sums
packaged installation of 'traviz' as traviz_1.3.0.zip
* DONE (traviz)
* installing to library 'F:/biocbuild/bbs-3.16-bioc/R/library'
package 'traviz' successfully unpacked and MD5 sums checked

Tests output

traviz.Rcheck/tests/testthat.Rout


R version 4.2.1 (2022-06-23 ucrt) -- "Funny-Looking Kid"
Copyright (C) 2022 The R Foundation for Statistical Computing
Platform: x86_64-w64-mingw32/x64 (64-bit)

R is free software and comes with ABSOLUTELY NO WARRANTY.
You are welcome to redistribute it under certain conditions.
Type 'license()' or 'licence()' for distribution details.

R is a collaborative project with many contributors.
Type 'contributors()' for more information and
'citation()' on how to cite R or R packages in publications.

Type 'demo()' for some demos, 'help()' for on-line help, or
'help.start()' for an HTML browser interface to help.
Type 'q()' to quit R.

> library(testthat)
> library(traviz)
> 
> test_check("traviz")
Loading required package: princurve
Loading required package: TrajectoryUtils
Loading required package: SingleCellExperiment
Loading required package: SummarizedExperiment
Loading required package: MatrixGenerics
Loading required package: matrixStats

Attaching package: 'MatrixGenerics'

The following objects are masked from 'package:matrixStats':

    colAlls, colAnyNAs, colAnys, colAvgsPerRowSet, colCollapse,
    colCounts, colCummaxs, colCummins, colCumprods, colCumsums,
    colDiffs, colIQRDiffs, colIQRs, colLogSumExps, colMadDiffs,
    colMads, colMaxs, colMeans2, colMedians, colMins, colOrderStats,
    colProds, colQuantiles, colRanges, colRanks, colSdDiffs, colSds,
    colSums2, colTabulates, colVarDiffs, colVars, colWeightedMads,
    colWeightedMeans, colWeightedMedians, colWeightedSds,
    colWeightedVars, rowAlls, rowAnyNAs, rowAnys, rowAvgsPerColSet,
    rowCollapse, rowCounts, rowCummaxs, rowCummins, rowCumprods,
    rowCumsums, rowDiffs, rowIQRDiffs, rowIQRs, rowLogSumExps,
    rowMadDiffs, rowMads, rowMaxs, rowMeans2, rowMedians, rowMins,
    rowOrderStats, rowProds, rowQuantiles, rowRanges, rowRanks,
    rowSdDiffs, rowSds, rowSums2, rowTabulates, rowVarDiffs, rowVars,
    rowWeightedMads, rowWeightedMeans, rowWeightedMedians,
    rowWeightedSds, rowWeightedVars

Loading required package: GenomicRanges
Loading required package: stats4
Loading required package: BiocGenerics

Attaching package: 'BiocGenerics'

The following objects are masked from 'package:stats':

    IQR, mad, sd, var, xtabs

The following objects are masked from 'package:base':

    Filter, Find, Map, Position, Reduce, anyDuplicated, append,
    as.data.frame, basename, cbind, colnames, dirname, do.call,
    duplicated, eval, evalq, get, grep, grepl, intersect, is.unsorted,
    lapply, mapply, match, mget, order, paste, pmax, pmax.int, pmin,
    pmin.int, rank, rbind, rownames, sapply, setdiff, sort, table,
    tapply, union, unique, unsplit, which.max, which.min

Loading required package: S4Vectors

Attaching package: 'S4Vectors'

The following objects are masked from 'package:base':

    I, expand.grid, unname

Loading required package: IRanges

Attaching package: 'IRanges'

The following object is masked from 'package:grDevices':

    windows

Loading required package: GenomeInfoDb
Loading required package: Biobase
Welcome to Bioconductor

    Vignettes contain introductory material; view with
    'browseVignettes()'. To cite Bioconductor, see
    'citation("Biobase")', and for packages 'citation("pkgname")'.


Attaching package: 'Biobase'

The following object is masked from 'package:MatrixGenerics':

    rowMedians

The following objects are masked from 'package:matrixStats':

    anyMissing, rowMedians

[ FAIL 0 | WARN 0 | SKIP 0 | PASS 9 ]
> 
> proc.time()
   user  system elapsed 
  12.81    0.85   13.62 

Example timings

traviz.Rcheck/traviz-Ex.timings

nameusersystemelapsed
plot-SlingshotDataSet0.990.051.03
plot3d-SlingshotDataSet000
plotExpression1.300.121.44
plotGeneCount0.690.220.91
plotSmoothers3.380.163.53