Index of /checkResults/devel/bioc-LATEST/transcriptogramer/raw-results/nebbiolo2

[ICO]NameLast modifiedSizeDescription

[DIR]Parent Directory  -  
[TXT]buildsrc-out.txt16-Jun-2024 01:34 870  
[   ]buildsrc-summary.dcf16-Jun-2024 01:34 454  
[TXT]checksrc-out.txt16-Jun-2024 01:34 3.5K 
[   ]checksrc-summary.dcf16-Jun-2024 01:34 454  
[TXT]install-out.txt16-Jun-2024 01:34 1.0K 
[   ]install-summary.dcf16-Jun-2024 01:34 279