Index of /checkResults/devel/bioc-LATEST/transcriptogramer/raw-results/lconway

[ICO]NameLast modifiedSizeDescription

[DIR]Parent Directory  -  
[TXT]buildbin-out.txt18-Jul-2024 00:41 1.3K 
[   ]buildbin-summary.dcf18-Jul-2024 00:41 590  
[TXT]buildsrc-out.txt18-Jul-2024 00:41 856  
[   ]buildsrc-summary.dcf18-Jul-2024 00:41 457  
[TXT]checksrc-out.txt18-Jul-2024 00:41 3.6K 
[   ]checksrc-summary.dcf18-Jul-2024 00:41 484  
[TXT]install-out.txt18-Jul-2024 00:41 1.0K 
[   ]install-summary.dcf18-Jul-2024 00:41 289