Name | Last modified | Size | Description | |
---|---|---|---|---|
Parent Directory | - | |||
install-out.txt | 17-Jul-2024 00:44 | 1.0K | ||
install-summary.dcf | 17-Jul-2024 00:44 | 288 | ||
buildsrc-out.txt | 17-Jul-2024 00:44 | 856 | ||
buildsrc-summary.dcf | 17-Jul-2024 00:44 | 457 | ||
checksrc-out.txt | 17-Jul-2024 00:44 | 3.6K | ||
checksrc-summary.dcf | 17-Jul-2024 00:44 | 483 | ||
buildbin-out.txt | 17-Jul-2024 00:44 | 1.3K | ||
buildbin-summary.dcf | 17-Jul-2024 00:44 | 590 | ||