Index of /checkResults/devel/bioc-LATEST/transcriptogramer/raw-results/kjohnson3

[ICO]NameLast modifiedSizeDescription

[DIR]Parent Directory  -  
[TXT]buildbin-out.txt18-Jul-2024 00:43 1.3K 
[   ]buildbin-summary.dcf18-Jul-2024 00:43 590  
[TXT]buildsrc-out.txt18-Jul-2024 00:43 856  
[   ]buildsrc-summary.dcf18-Jul-2024 00:43 457  
[TXT]checksrc-out.txt18-Jul-2024 00:43 3.6K 
[   ]checksrc-summary.dcf18-Jul-2024 00:43 483  
[TXT]install-out.txt18-Jul-2024 00:43 1.0K 
[   ]install-summary.dcf18-Jul-2024 00:43 289