Back to Multiple platform build/check report for BioC 3.14
ABCDEFGHIJKLMNOPQRS[T]UVWXYZ

This page was generated on 2021-10-22 12:04:47 -0400 (Fri, 22 Oct 2021).

INSTALL results for tradeSeq on riesling1

To the developers/maintainers of the tradeSeq package:
- Please allow up to 24 hours (and sometimes 48 hours) for your latest push to git@git.bioconductor.org:packages/tradeSeq.git to
reflect on this report. See How and When does the builder pull? When will my changes propagate? here for more information.
- Make sure to use the following settings in order to reproduce any error or warning you see on this page.

raw results

Package 1973/2075HostnameOS / ArchINSTALLBUILDCHECKBUILD BIN
tradeSeq 1.7.03  (landing page)
Hector Roux de Bezieux
Snapshot Date: 2021-10-21 14:50:08 -0400 (Thu, 21 Oct 2021)
git_url: https://git.bioconductor.org/packages/tradeSeq
git_branch: master
git_last_commit: 28918ed
git_last_commit_date: 2021-07-02 13:37:57 -0400 (Fri, 02 Jul 2021)
nebbiolo2Linux (Ubuntu 20.04.2 LTS) / x86_64  OK    OK    OK  UNNEEDED, same version is already published
riesling1Windows Server 2019 Standard / x64  OK    OK    OK    OK  UNNEEDED, same version is already published
merida1macOS 10.14.6 Mojave / x86_64  OK    OK    OK    NA  

Summary

Package: tradeSeq
Version: 1.7.03
Command: C:\cygwin\bin\curl.exe -O http://155.52.207.166/BBS/3.14/bioc/src/contrib/tradeSeq_1.7.03.tar.gz && rm -rf tradeSeq.buildbin-libdir && mkdir tradeSeq.buildbin-libdir && D:\biocbuild\bbs-3.14-bioc\R\bin\R.exe CMD INSTALL --merge-multiarch --build --library=tradeSeq.buildbin-libdir tradeSeq_1.7.03.tar.gz && D:\biocbuild\bbs-3.14-bioc\R\bin\R.exe CMD INSTALL tradeSeq_1.7.03.zip && rm tradeSeq_1.7.03.tar.gz tradeSeq_1.7.03.zip
StartedAt: 2021-10-21 18:07:59 -0400 (Thu, 21 Oct 2021)
EndedAt: 2021-10-21 18:11:20 -0400 (Thu, 21 Oct 2021)
EllapsedTime: 200.8 seconds
RetCode: 0
Status:   OK  

Command output

##############################################################################
##############################################################################
###
### Running command:
###
###   C:\cygwin\bin\curl.exe -O http://155.52.207.166/BBS/3.14/bioc/src/contrib/tradeSeq_1.7.03.tar.gz && rm -rf tradeSeq.buildbin-libdir && mkdir tradeSeq.buildbin-libdir && D:\biocbuild\bbs-3.14-bioc\R\bin\R.exe CMD INSTALL --merge-multiarch --build --library=tradeSeq.buildbin-libdir tradeSeq_1.7.03.tar.gz && D:\biocbuild\bbs-3.14-bioc\R\bin\R.exe CMD INSTALL tradeSeq_1.7.03.zip && rm tradeSeq_1.7.03.tar.gz tradeSeq_1.7.03.zip
###
##############################################################################
##############################################################################


  % Total    % Received % Xferd  Average Speed   Time    Time     Time  Current
                                 Dload  Upload   Total   Spent    Left  Speed

  0     0    0     0    0     0      0      0 --:--:-- --:--:-- --:--:--     0
 14 1342k   14  198k    0     0   883k      0  0:00:01 --:--:--  0:00:01  879k
100 1342k  100 1342k    0     0  2969k      0 --:--:-- --:--:-- --:--:-- 2962k

install for i386

* installing *source* package 'tradeSeq' ...
** using staged installation
** R
** data
** inst
** byte-compile and prepare package for lazy loading
** help
*** installing help indices
  converting help for package 'tradeSeq'
    finding HTML links ... done
    associationTest                         html  
    celltype                                html  
    clusterExpressionPatterns               html  
    conditionTest                           html  
    countMatrix                             html  
    crv                                     html  
    diffEndTest                             html  
    earlyDETest                             html  
    evaluateK                               html  
    fitGAM                                  html  
    gamList                                 html  
    getSmootherPvalues                      html  
    getSmootherTestStats                    html  
    nknots                                  html  
    patternTest                             html  
    plotGeneCount                           html  
    finding level-2 HTML links ... done

    plotSmoothers                           html  
    plot_evalutateK_results                 html  
    predictCells                            html  
    predictSmooth                           html  
    sds                                     html  
    startVsEndTest                          html  
** building package indices
** installing vignettes
** testing if installed package can be loaded from temporary location
** testing if installed package can be loaded from final location
** testing if installed package keeps a record of temporary installation path

install for x64

* installing *source* package 'tradeSeq' ...
** testing if installed package can be loaded
* MD5 sums
packaged installation of 'tradeSeq' as tradeSeq_1.7.03.zip
* DONE (tradeSeq)
* installing to library 'D:/biocbuild/bbs-3.14-bioc/R/library'
package 'tradeSeq' successfully unpacked and MD5 sums checked