Name | Last modified | Size | Description | |
---|---|---|---|---|
Parent Directory | - | |||
buildsrc-out.txt | 16-Jun-2024 01:34 | 897 | ||
buildsrc-summary.dcf | 16-Jun-2024 01:34 | 427 | ||
checksrc-out.txt | 16-Jun-2024 01:34 | 5.5K | ||
checksrc-summary.dcf | 16-Jun-2024 01:34 | 419 | ||
install-out.txt | 16-Jun-2024 01:34 | 963 | ||
install-summary.dcf | 16-Jun-2024 01:34 | 261 | ||