Back to Multiple platform build/check report for BioC 3.14
ABCDEFGHIJKLMNOPQRS[T]UVWXYZ

This page was generated on 2021-10-14 12:06:25 -0400 (Thu, 14 Oct 2021).

INSTALL results for tradeSeq on merida1

To the developers/maintainers of the tradeSeq package:
- Please allow up to 24 hours (and sometimes 48 hours) for your latest push to git@git.bioconductor.org:packages/tradeSeq.git to
reflect on this report. See How and When does the builder pull? When will my changes propagate? here for more information.
- Make sure to use the following settings in order to reproduce any error or warning you see on this page.

raw results

Package 1954/2056HostnameOS / ArchINSTALLBUILDCHECKBUILD BIN
tradeSeq 1.7.03  (landing page)
Hector Roux de Bezieux
Snapshot Date: 2021-10-13 14:50:09 -0400 (Wed, 13 Oct 2021)
git_url: https://git.bioconductor.org/packages/tradeSeq
git_branch: master
git_last_commit: 28918ed
git_last_commit_date: 2021-07-02 13:37:57 -0400 (Fri, 02 Jul 2021)
nebbiolo2Linux (Ubuntu 20.04.2 LTS) / x86_64  OK    OK    OK  UNNEEDED, same version is already published
riesling1Windows Server 2019 Standard / x64  OK    OK    OK    OK  UNNEEDED, same version is already published
merida1macOS 10.14.6 Mojave / x86_64  OK    OK    OK    NA  

Summary

Package: tradeSeq
Version: 1.7.03
Command: /Library/Frameworks/R.framework/Resources/bin/R CMD INSTALL tradeSeq
StartedAt: 2021-10-13 17:02:01 -0400 (Wed, 13 Oct 2021)
EndedAt: 2021-10-13 17:02:36 -0400 (Wed, 13 Oct 2021)
EllapsedTime: 35.4 seconds
RetCode: 0
Status:   OK  

Command output

##############################################################################
##############################################################################
###
### Running command:
###
###   /Library/Frameworks/R.framework/Resources/bin/R CMD INSTALL tradeSeq
###
##############################################################################
##############################################################################


* installing to library ‘/Library/Frameworks/R.framework/Versions/4.1/Resources/library’
* installing *source* package ‘tradeSeq’ ...
** using staged installation
** R
** data
** inst
** byte-compile and prepare package for lazy loading
** help
*** installing help indices
** building package indices
** installing vignettes
** testing if installed package can be loaded from temporary location
** testing if installed package can be loaded from final location
** testing if installed package keeps a record of temporary installation path
* DONE (tradeSeq)