Back to Multiple platform build/check report for BioC 3.14
ABCDEFGHIJKLMNOPQRS[T]UVWXYZ

This page was generated on 2021-10-21 12:05:36 -0400 (Thu, 21 Oct 2021).

BUILD results for tradeSeq on merida1

To the developers/maintainers of the tradeSeq package:
- Please allow up to 24 hours (and sometimes 48 hours) for your latest push to git@git.bioconductor.org:packages/tradeSeq.git to
reflect on this report. See How and When does the builder pull? When will my changes propagate? here for more information.
- Make sure to use the following settings in order to reproduce any error or warning you see on this page.

raw results

Package 1973/2075HostnameOS / ArchINSTALLBUILDCHECKBUILD BIN
tradeSeq 1.7.03  (landing page)
Hector Roux de Bezieux
Snapshot Date: 2021-10-20 14:50:05 -0400 (Wed, 20 Oct 2021)
git_url: https://git.bioconductor.org/packages/tradeSeq
git_branch: master
git_last_commit: 28918ed
git_last_commit_date: 2021-07-02 13:37:57 -0400 (Fri, 02 Jul 2021)
nebbiolo2Linux (Ubuntu 20.04.2 LTS) / x86_64  OK    OK    OK  UNNEEDED, same version is already published
riesling1Windows Server 2019 Standard / x64  OK    OK    OK    OK  UNNEEDED, same version is already published
merida1macOS 10.14.6 Mojave / x86_64  OK    OK    OK    NA  

Summary

Package: tradeSeq
Version: 1.7.03
Command: /Library/Frameworks/R.framework/Resources/bin/R CMD build --keep-empty-dirs --no-resave-data tradeSeq
StartedAt: 2021-10-20 23:44:23 -0400 (Wed, 20 Oct 2021)
EndedAt: 2021-10-20 23:53:55 -0400 (Wed, 20 Oct 2021)
EllapsedTime: 572.2 seconds
RetCode: 0
Status:   OK  
PackageFile: tradeSeq_1.7.03.tar.gz
PackageFileSize: 5.084 MiB

Command output

##############################################################################
##############################################################################
###
### Running command:
###
###   /Library/Frameworks/R.framework/Resources/bin/R CMD build --keep-empty-dirs --no-resave-data tradeSeq
###
##############################################################################
##############################################################################


* checking for file ‘tradeSeq/DESCRIPTION’ ... OK
* preparing ‘tradeSeq’:
* checking DESCRIPTION meta-information ... OK
* installing the package to build vignettes
* creating vignettes ... OK
* checking for LF line-endings in source and make files and shell scripts
* checking for empty or unneeded directories
* looking to see if a ‘data/datalist’ file should be added
* building ‘tradeSeq_1.7.03.tar.gz’