Back to Multiple platform build/check report for BioC 3.16
ABCDEFGHIJKLMNOPQRS[T]UVWXYZ

This page was generated on 2022-06-24 11:07:21 -0400 (Fri, 24 Jun 2022).

HostnameOSArch (*)R versionInstalled pkgs
nebbiolo2Linux (Ubuntu 20.04.4 LTS)x86_644.2.0 Patched (2022-06-02 r82447) -- "Vigorous Calisthenics" 4331
palomino4Windows Server 2022 Datacenterx644.2.0 Patched (2022-06-02 r82447 ucrt) -- "Vigorous Calisthenics" 4136
lconwaymacOS 12.2.1 Montereyx86_644.2.0 Patched (2022-05-29 r82424) -- "Vigorous Calisthenics" 4147
Click on any hostname to see more info about the system (e.g. compilers)      (*) as reported by 'uname -p', except on Windows and Mac OS X

CHECK results for topdownr on palomino4


To the developers/maintainers of the topdownr package:
- Please allow up to 24 hours (and sometimes 48 hours) for your latest push to git@git.bioconductor.org:packages/topdownr.git to
reflect on this report. See How and When does the builder pull? When will my changes propagate? for more information.
- Make sure to use the following settings in order to reproduce any error or warning you see on this page.

raw results

Package 2005/2118HostnameOS / ArchINSTALLBUILDCHECKBUILD BIN
topdownr 1.19.0  (landing page)
Sebastian Gibb
Snapshot Date: 2022-06-23 14:00:04 -0400 (Thu, 23 Jun 2022)
git_url: https://git.bioconductor.org/packages/topdownr
git_branch: master
git_last_commit: b937a24
git_last_commit_date: 2022-04-26 11:44:41 -0400 (Tue, 26 Apr 2022)
nebbiolo2Linux (Ubuntu 20.04.4 LTS) / x86_64  OK    OK    OK  UNNEEDED, same version is already published
palomino4Windows Server 2022 Datacenter / x64  OK    OK    OK    OK  UNNEEDED, same version is already published
lconwaymacOS 12.2.1 Monterey / x86_64  OK    OK    OK    OK  UNNEEDED, same version is already published

Summary

Package: topdownr
Version: 1.19.0
Command: F:\biocbuild\bbs-3.16-bioc\R\bin\R.exe CMD check --force-multiarch --install=check:topdownr.install-out.txt --library=F:\biocbuild\bbs-3.16-bioc\R\library --no-vignettes --timings topdownr_1.19.0.tar.gz
StartedAt: 2022-06-24 06:33:52 -0400 (Fri, 24 Jun 2022)
EndedAt: 2022-06-24 06:37:45 -0400 (Fri, 24 Jun 2022)
EllapsedTime: 233.0 seconds
RetCode: 0
Status:   OK  
CheckDir: topdownr.Rcheck
Warnings: 0

Command output

##############################################################################
##############################################################################
###
### Running command:
###
###   F:\biocbuild\bbs-3.16-bioc\R\bin\R.exe CMD check --force-multiarch --install=check:topdownr.install-out.txt --library=F:\biocbuild\bbs-3.16-bioc\R\library --no-vignettes --timings topdownr_1.19.0.tar.gz
###
##############################################################################
##############################################################################


* using log directory 'F:/biocbuild/bbs-3.16-bioc/meat/topdownr.Rcheck'
* using R version 4.2.0 Patched (2022-06-02 r82447 ucrt)
* using platform: x86_64-w64-mingw32 (64-bit)
* using session charset: UTF-8
* using option '--no-vignettes'
* checking for file 'topdownr/DESCRIPTION' ... OK
* this is package 'topdownr' version '1.19.0'
* package encoding: UTF-8
* checking package namespace information ... OK
* checking package dependencies ... OK
* checking if this is a source package ... OK
* checking if there is a namespace ... OK
* checking for hidden files and directories ... OK
* checking for portable file names ... OK
* checking whether package 'topdownr' can be installed ... OK
* checking installed package size ... OK
* checking package directory ... OK
* checking 'build' directory ... OK
* checking DESCRIPTION meta-information ... OK
* checking top-level files ... OK
* checking for left-over files ... OK
* checking index information ... OK
* checking package subdirectories ... OK
* checking R files for non-ASCII characters ... OK
* checking R files for syntax errors ... OK
* checking whether the package can be loaded ... OK
* checking whether the package can be loaded with stated dependencies ... OK
* checking whether the package can be unloaded cleanly ... OK
* checking whether the namespace can be loaded with stated dependencies ... OK
* checking whether the namespace can be unloaded cleanly ... OK
* checking dependencies in R code ... OK
* checking S3 generic/method consistency ... OK
* checking replacement functions ... OK
* checking foreign function calls ... OK
* checking R code for possible problems ... OK
* checking Rd files ... OK
* checking Rd metadata ... OK
* checking Rd cross-references ... OK
* checking for missing documentation entries ... OK
* checking for code/documentation mismatches ... OK
* checking Rd \usage sections ... OK
* checking Rd contents ... OK
* checking for unstated dependencies in examples ... OK
* checking contents of 'data' directory ... OK
* checking data for non-ASCII characters ... OK
* checking LazyData ... OK
* checking data for ASCII and uncompressed saves ... OK
* checking R/sysdata.rda ... OK
* checking line endings in Makefiles ... OK
* checking for GNU extensions in Makefiles ... OK
* checking include directives in Makefiles ... OK
* checking files in 'vignettes' ... OK
* checking examples ... OK
Examples with CPU (user + system) or elapsed time > 5s
                 user system elapsed
writeMethodXmls 27.08   0.38   27.45
* checking for unstated dependencies in 'tests' ... OK
* checking tests ...
  Running 'testthat.R'
 OK
* checking for unstated dependencies in vignettes ... OK
* checking package vignettes in 'inst/doc' ... OK
* checking running R code from vignettes ... SKIPPED
* checking re-building of vignette outputs ... SKIPPED
* checking PDF version of manual ... OK
* DONE

Status: OK


Installation output

topdownr.Rcheck/00install.out

##############################################################################
##############################################################################
###
### Running command:
###
###   C:\cygwin\bin\curl.exe -O http://155.52.207.166/BBS/3.16/bioc/src/contrib/topdownr_1.19.0.tar.gz && rm -rf topdownr.buildbin-libdir && mkdir topdownr.buildbin-libdir && F:\biocbuild\bbs-3.16-bioc\R\bin\R.exe CMD INSTALL --merge-multiarch --build --library=topdownr.buildbin-libdir topdownr_1.19.0.tar.gz && F:\biocbuild\bbs-3.16-bioc\R\bin\R.exe CMD INSTALL topdownr_1.19.0.zip && rm topdownr_1.19.0.tar.gz topdownr_1.19.0.zip
###
##############################################################################
##############################################################################


  % Total    % Received % Xferd  Average Speed   Time    Time     Time  Current
                                 Dload  Upload   Total   Spent    Left  Speed

  0     0    0     0    0     0      0      0 --:--:-- --:--:-- --:--:--     0
100  400k  100  400k    0     0  4471k      0 --:--:-- --:--:-- --:--:-- 4499k
only one architecture so ignoring '--merge-multiarch'
* installing *source* package 'topdownr' ...
** using staged installation
** R
** data
*** moving datasets to lazyload DB
** inst
** byte-compile and prepare package for lazy loading
** help
*** installing help indices
** building package indices
** installing vignettes
** testing if installed package can be loaded from temporary location
** testing if installed package can be loaded from final location
** testing if installed package keeps a record of temporary installation path
* MD5 sums
packaged installation of 'topdownr' as topdownr_1.19.0.zip
* DONE (topdownr)
* installing to library 'F:/biocbuild/bbs-3.16-bioc/R/library'
package 'topdownr' successfully unpacked and MD5 sums checked

Tests output

topdownr.Rcheck/tests/testthat.Rout


R version 4.2.0 Patched (2022-06-02 r82447 ucrt) -- "Vigorous Calisthenics"
Copyright (C) 2022 The R Foundation for Statistical Computing
Platform: x86_64-w64-mingw32/x64 (64-bit)

R is free software and comes with ABSOLUTELY NO WARRANTY.
You are welcome to redistribute it under certain conditions.
Type 'license()' or 'licence()' for distribution details.

R is a collaborative project with many contributors.
Type 'contributors()' for more information and
'citation()' on how to cite R or R packages in publications.

Type 'demo()' for some demos, 'help()' for on-line help, or
'help.start()' for an HTML browser interface to help.
Type 'q()' to quit R.

> library("testthat")
> library("topdownr")
Loading required package: BiocGenerics

Attaching package: 'BiocGenerics'

The following objects are masked from 'package:stats':

    IQR, mad, sd, var, xtabs

The following objects are masked from 'package:base':

    Filter, Find, Map, Position, Reduce, anyDuplicated, append,
    as.data.frame, basename, cbind, colnames, dirname, do.call,
    duplicated, eval, evalq, get, grep, grepl, intersect, is.unsorted,
    lapply, mapply, match, mget, order, paste, pmax, pmax.int, pmin,
    pmin.int, rank, rbind, rownames, sapply, setdiff, sort, table,
    tapply, union, unique, unsplit, which.max, which.min

Loading required package: ProtGenerics

Attaching package: 'ProtGenerics'

The following object is masked from 'package:stats':

    smooth

Loading required package: Biostrings
Loading required package: S4Vectors
Loading required package: stats4

Attaching package: 'S4Vectors'

The following objects are masked from 'package:base':

    I, expand.grid, unname

Loading required package: IRanges

Attaching package: 'IRanges'

The following object is masked from 'package:grDevices':

    windows

Loading required package: XVector
Loading required package: GenomeInfoDb

Attaching package: 'Biostrings'

The following object is masked from 'package:base':

    strsplit


This is topdownr version 1.19.0 
  Visit https://sgibb.github.io/topdownr/ to get started.

> 
> test_check("topdownr")
[ FAIL 0 | WARN 0 | SKIP 0 | PASS 601 ]
> 
> proc.time()
   user  system elapsed 
  18.51    0.65   19.31 

Example timings

topdownr.Rcheck/topdownr-Ex.timings

nameusersystemelapsed
AbstractTopDownSet-class0.620.030.66
FragmentViews-class0.100.000.09
NCBSet-class303
TopDownSet-class1.020.031.05
createExperimentsFragmentOptimisation0.140.000.14
expandMsConditions0.010.000.01
readTopDownFiles1.460.061.55
validMsSettings0.010.000.02
windows-specific-functions000
writeMethodXmls27.08 0.3827.45