Back to Multiple platform build/check report for BioC 3.16
ABCDEFGHIJKLMNOPQRS[T]UVWXYZ

This page was generated on 2022-06-24 11:07:21 -0400 (Fri, 24 Jun 2022).

HostnameOSArch (*)R versionInstalled pkgs
nebbiolo2Linux (Ubuntu 20.04.4 LTS)x86_644.2.0 Patched (2022-06-02 r82447) -- "Vigorous Calisthenics" 4331
palomino4Windows Server 2022 Datacenterx644.2.0 Patched (2022-06-02 r82447 ucrt) -- "Vigorous Calisthenics" 4136
lconwaymacOS 12.2.1 Montereyx86_644.2.0 Patched (2022-05-29 r82424) -- "Vigorous Calisthenics" 4147
Click on any hostname to see more info about the system (e.g. compilers)      (*) as reported by 'uname -p', except on Windows and Mac OS X

CHECK results for topGO on palomino4


To the developers/maintainers of the topGO package:
- Please allow up to 24 hours (and sometimes 48 hours) for your latest push to git@git.bioconductor.org:packages/topGO.git to
reflect on this report. See How and When does the builder pull? When will my changes propagate? for more information.
- Make sure to use the following settings in order to reproduce any error or warning you see on this page.

raw results

Package 2006/2118HostnameOS / ArchINSTALLBUILDCHECKBUILD BIN
topGO 2.49.0  (landing page)
Adrian Alexa
Snapshot Date: 2022-06-23 14:00:04 -0400 (Thu, 23 Jun 2022)
git_url: https://git.bioconductor.org/packages/topGO
git_branch: master
git_last_commit: 5dbcfd1
git_last_commit_date: 2022-04-26 10:59:24 -0400 (Tue, 26 Apr 2022)
nebbiolo2Linux (Ubuntu 20.04.4 LTS) / x86_64  OK    OK    OK  UNNEEDED, same version is already published
palomino4Windows Server 2022 Datacenter / x64  OK    OK    OK    OK  UNNEEDED, same version is already published
lconwaymacOS 12.2.1 Monterey / x86_64  OK    OK    OK    OK  UNNEEDED, same version is already published

Summary

Package: topGO
Version: 2.49.0
Command: F:\biocbuild\bbs-3.16-bioc\R\bin\R.exe CMD check --force-multiarch --install=check:topGO.install-out.txt --library=F:\biocbuild\bbs-3.16-bioc\R\library --no-vignettes --timings topGO_2.49.0.tar.gz
StartedAt: 2022-06-24 06:34:05 -0400 (Fri, 24 Jun 2022)
EndedAt: 2022-06-24 06:36:23 -0400 (Fri, 24 Jun 2022)
EllapsedTime: 138.0 seconds
RetCode: 0
Status:   OK  
CheckDir: topGO.Rcheck
Warnings: 0

Command output

##############################################################################
##############################################################################
###
### Running command:
###
###   F:\biocbuild\bbs-3.16-bioc\R\bin\R.exe CMD check --force-multiarch --install=check:topGO.install-out.txt --library=F:\biocbuild\bbs-3.16-bioc\R\library --no-vignettes --timings topGO_2.49.0.tar.gz
###
##############################################################################
##############################################################################


* using log directory 'F:/biocbuild/bbs-3.16-bioc/meat/topGO.Rcheck'
* using R version 4.2.0 Patched (2022-06-02 r82447 ucrt)
* using platform: x86_64-w64-mingw32 (64-bit)
* using session charset: UTF-8
* using option '--no-vignettes'
* checking for file 'topGO/DESCRIPTION' ... OK
* checking extension type ... Package
* this is package 'topGO' version '2.49.0'
* checking package namespace information ... OK
* checking package dependencies ... NOTE
Depends: includes the non-default packages:
  'BiocGenerics', 'graph', 'Biobase', 'GO.db', 'AnnotationDbi',
  'SparseM'
Adding so many packages to the search path is excessive and importing
selectively is preferable.
* checking if this is a source package ... OK
* checking if there is a namespace ... OK
* checking for hidden files and directories ... OK
* checking for portable file names ... OK
* checking whether package 'topGO' can be installed ... OK
* checking installed package size ... OK
* checking package directory ... OK
* checking 'build' directory ... OK
* checking DESCRIPTION meta-information ... OK
* checking top-level files ... OK
* checking for left-over files ... OK
* checking index information ... OK
* checking package subdirectories ... OK
* checking R files for non-ASCII characters ... OK
* checking R files for syntax errors ... OK
* checking whether the package can be loaded ... OK
* checking whether the package can be loaded with stated dependencies ... OK
* checking whether the package can be unloaded cleanly ... OK
* checking whether the namespace can be loaded with stated dependencies ... OK
* checking whether the namespace can be unloaded cleanly ... OK
* checking dependencies in R code ... NOTE
'library' or 'require' calls in package code:
  'Rgraphviz' 'multtest'
  Please use :: or requireNamespace() instead.
  See section 'Suggested packages' in the 'Writing R Extensions' manual.
Missing object imported by a ':::' call: 'globaltest:::globaltest'
* checking S3 generic/method consistency ... OK
* checking replacement functions ... OK
* checking foreign function calls ... OK
* checking R code for possible problems ... NOTE
GOplot: no visible global function definition for 'getDefaultAttrs'
GOplot: no visible global function definition for 'agopen'
GOplot.counts : plotSigChart : buildDrawing : <anonymous>: no visible
  global function definition for 'getNodeCenter'
GOplot.counts : plotSigChart : buildDrawing : <anonymous>: no visible
  global function definition for 'pieGlyph'
GOplot.counts : plotSigChart : buildDrawing : <anonymous>: no visible
  global function definition for 'getX'
GOplot.counts : plotSigChart : buildDrawing : <anonymous>: no visible
  global function definition for 'getY'
GOplot.counts : plotSigChart : buildDrawing : <anonymous>: no visible
  global function definition for 'getNodeLW'
GOplot.counts : plotSigChart : buildDrawing : <anonymous>: no visible
  global function definition for 'drawTxtLabel'
GOplot.counts : plotSigChart : buildDrawing : <anonymous>: no visible
  global function definition for 'txtLabel'
GOplot.counts : plotSigChart: no visible global function definition for
  'AgNode'
GOplot.counts : plotSigChart : <anonymous>: no visible global function
  definition for 'name'
GOplot.counts : plotSigChart : <anonymous>: no visible global function
  definition for 'getNodeCenter'
GOplot.counts : plotSigChart: no visible global function definition for
  'getNodeXY'
GOplot.counts : plotSigChart: no visible global function definition for
  'getY'
GOplot.counts: no visible global function definition for
  'getDefaultAttrs'
GOplot.counts: no visible global function definition for 'agopen'
getPvalues: no visible global function definition for 'mt.teststat'
getPvalues: no visible global function definition for 'mt.rawp2adjp'
printDOT: no visible global function definition for 'getDefaultAttrs'
printDOT: no visible global function definition for 'toDot'
GOSumTest,classicScore: no visible binding for global variable
  '.PERMSUM.MAT'
GOSumTest,classicScore: no visible binding for global variable
  '.PERMSUM.LOOKUP'
initialize,classicExpr: no visible global function definition for
  'error'
scoresInTerm,topGOdata-missing: no visible global function definition
  for 'scoreInNode'
Undefined global functions or variables:
  .PERMSUM.LOOKUP .PERMSUM.MAT AgNode agopen drawTxtLabel error
  getDefaultAttrs getNodeCenter getNodeLW getNodeXY getX getY
  mt.rawp2adjp mt.teststat name pieGlyph scoreInNode toDot txtLabel
* checking Rd files ... OK
* checking Rd metadata ... OK
* checking Rd cross-references ... OK
* checking for missing documentation entries ... OK
* checking for code/documentation mismatches ... OK
* checking Rd \usage sections ... OK
* checking Rd contents ... OK
* checking for unstated dependencies in examples ... OK
* checking contents of 'data' directory ... OK
* checking data for non-ASCII characters ... OK
* checking data for ASCII and uncompressed saves ... OK
* checking sizes of PDF files under 'inst/doc' ... OK
* checking files in 'vignettes' ... OK
* checking examples ... OK
* checking for unstated dependencies in vignettes ... OK
* checking package vignettes in 'inst/doc' ... OK
* checking running R code from vignettes ... SKIPPED
* checking re-building of vignette outputs ... SKIPPED
* checking PDF version of manual ... OK
* DONE

Status: 3 NOTEs
See
  'F:/biocbuild/bbs-3.16-bioc/meat/topGO.Rcheck/00check.log'
for details.



Installation output

topGO.Rcheck/00install.out

##############################################################################
##############################################################################
###
### Running command:
###
###   C:\cygwin\bin\curl.exe -O http://155.52.207.166/BBS/3.16/bioc/src/contrib/topGO_2.49.0.tar.gz && rm -rf topGO.buildbin-libdir && mkdir topGO.buildbin-libdir && F:\biocbuild\bbs-3.16-bioc\R\bin\R.exe CMD INSTALL --merge-multiarch --build --library=topGO.buildbin-libdir topGO_2.49.0.tar.gz && F:\biocbuild\bbs-3.16-bioc\R\bin\R.exe CMD INSTALL topGO_2.49.0.zip && rm topGO_2.49.0.tar.gz topGO_2.49.0.zip
###
##############################################################################
##############################################################################


  % Total    % Received % Xferd  Average Speed   Time    Time     Time  Current
                                 Dload  Upload   Total   Spent    Left  Speed

  0     0    0     0    0     0      0      0 --:--:-- --:--:-- --:--:--     0
100  424k  100  424k    0     0  4592k      0 --:--:-- --:--:-- --:--:-- 4669k
only one architecture so ignoring '--merge-multiarch'
* installing *source* package 'topGO' ...
** using staged installation
** R
** data
** inst
** byte-compile and prepare package for lazy loading
** help
*** installing help indices
** building package indices
** installing vignettes
** testing if installed package can be loaded from temporary location

groupGOTerms: 	GOBPTerm, GOMFTerm, GOCCTerm environments built.
** testing if installed package can be loaded from final location

groupGOTerms: 	GOBPTerm, GOMFTerm, GOCCTerm environments built.
** testing if installed package keeps a record of temporary installation path
* MD5 sums
packaged installation of 'topGO' as topGO_2.49.0.zip
* DONE (topGO)
* installing to library 'F:/biocbuild/bbs-3.16-bioc/R/library'
package 'topGO' successfully unpacked and MD5 sums checked

Tests output


Example timings

topGO.Rcheck/topGO-Ex.timings

nameusersystemelapsed
GOdata0.050.010.06
annFUN0.750.050.87
classicCount-class000
classicExpr-class0.010.000.02
classicScore-class000
dagFunctions000
diagnosticMethods0.890.020.91
elimExpr-class000
elimScore-class000
geneList000
getPvalues3.340.143.58
getSigGroups2.360.052.40
groupGOTerms0.240.000.24
inducedGraph0.040.020.06
parentChild-class000
printGraph-methods000
topGOdata-class3.820.354.22
topGOresult-class0.030.000.03