Back to Multiple platform build/check report for BioC 3.15
ABCDEFGHIJKLMNOPQRS[T]UVWXYZ

This page was generated on 2022-01-21 11:08:47 -0500 (Fri, 21 Jan 2022).

HostnameOSArch (*)R versionInstalled pkgs
nebbiolo1Linux (Ubuntu 20.04.4 LTS)x86_64R Under development (unstable) (2022-01-05 r81451) -- "Unsuffered Consequences" 4163
riesling1Windows Server 2019 Standardx64R Under development (unstable) (2021-11-21 r81221) -- "Unsuffered Consequences" 4058
palomino3Windows Server 2022 Datacenterx64R Under development (unstable) (2021-12-21 r81400 ucrt) -- "Unsuffered Consequences" 4000
merida1macOS 10.14.6 Mojavex86_64R Under development (unstable) (2022-01-05 r81451) -- "Unsuffered Consequences" 4117
Click on any hostname to see more info about the system (e.g. compilers)      (*) as reported by 'uname -p', except on Windows and Mac OS X

INSTALL results for tigre on riesling1


To the developers/maintainers of the tigre package:
- Please allow up to 24 hours (and sometimes 48 hours) for your latest push to git@git.bioconductor.org:packages/tigre.git to
reflect on this report. See How and When does the builder pull? When will my changes propagate? here for more information.
- Make sure to use the following settings in order to reproduce any error or warning you see on this page.

raw results

Package 1945/2075HostnameOS / ArchINSTALLBUILDCHECKBUILD BIN
tigre 1.49.0  (landing page)
Antti Honkela
Snapshot Date: 2022-01-20 13:55:17 -0500 (Thu, 20 Jan 2022)
git_url: https://git.bioconductor.org/packages/tigre
git_branch: master
git_last_commit: 6a692e0
git_last_commit_date: 2021-10-26 11:55:49 -0500 (Tue, 26 Oct 2021)
nebbiolo1Linux (Ubuntu 20.04.4 LTS) / x86_64  OK    OK    OK  UNNEEDED, same version is already published
riesling1Windows Server 2019 Standard / x64  OK    OK    OK    OK  
palomino3Windows Server 2022 Datacenter / x64  OK    OK    OK    OK  NO, package depends on 'BiocGenerics' which is not available
merida1macOS 10.14.6 Mojave / x86_64  OK    OK    OK    OK  UNNEEDED, same version is already published

Summary

Package: tigre
Version: 1.49.0
Command: D:\biocbuild\bbs-3.15-bioc\R\bin\R.exe CMD INSTALL tigre
StartedAt: 2022-01-20 15:46:27 -0500 (Thu, 20 Jan 2022)
EndedAt: 2022-01-20 15:47:21 -0500 (Thu, 20 Jan 2022)
EllapsedTime: 54.7 seconds
RetCode: 0
Status:   OK  

Command output

##############################################################################
##############################################################################
###
### Running command:
###
###   D:\biocbuild\bbs-3.15-bioc\R\bin\R.exe CMD INSTALL tigre
###
##############################################################################
##############################################################################


* installing to library 'D:/biocbuild/bbs-3.15-bioc/R/library'
* installing *source* package 'tigre' ...
** using staged installation
** libs
"C:/rtools40/mingw64/bin/"gcc  -I"D:/biocbuild/bbs-3.15-bioc/R/include" -DNDEBUG     -I"C:/extsoft/include"     -O2 -Wall  -std=gnu99 -mfpmath=sse -msse2 -mstackrealign -fno-reorder-blocks-and-partition  -c miscCFunctions.c -o miscCFunctions.o
C:/rtools40/mingw64/bin/gcc -shared -s -static-libgcc -o tigre.dll tmp.def miscCFunctions.o -LC:/extsoft/lib/x64 -LC:/extsoft/lib -LD:/biocbuild/bbs-3.15-bioc/R/bin/x64 -lR
installing to D:/biocbuild/bbs-3.15-bioc/R/library/00LOCK-tigre/00new/tigre/libs/x64
** R
** data
** inst
** byte-compile and prepare package for lazy loading
** help
*** installing help indices
  converting help for package 'tigre'
    finding HTML links ... done
    ExpressionTimeSeries-class              html  
    finding level-2 HTML links ... done

    GPLearn                                 html  
    GPModel-class                           html  
    GPPlot                                  html  
    GPRankTargets                           html  
    SCGoptim                                html  
    drosophila_gpsim_fragment               html  
    drosophila_mmgmos_fragment              html  
    expTransform                            html  
    export                                  html  
    generateModels                          html  
    gpsimCreate                             html  
    kernCompute                             html  
    kernCreate                              html  
    kernDiagGradX                           html  
    kernGradient                            html  
    lnDiffErfs                              html  
    modelDisplay                            html  
    modelExpandParam                        html  
    modelExtractParam                       html  
    modelGradient                           html  
    modelTieParam                           html  
    optimiDefaultConstraint                 html  
    plotTimeseries                          html  
    processData                             html  
    scoreList-class                         html  
    tigre-package                           html  
** building package indices
** installing vignettes
** testing if installed package can be loaded from temporary location
** testing if installed package can be loaded from final location
** testing if installed package keeps a record of temporary installation path
* DONE (tigre)
Making 'packages.html' ...Warning in packageDescription(i, lib.loc = lib, fields = "Title", encoding = "UTF-8") :
  DESCRIPTION file of package 'MGFR' is missing or broken
Warning in packageDescription(i, lib.loc = lib, fields = "Title", encoding = "UTF-8") :
  DESCRIPTION file of package 'ropls' is missing or broken
 done