Index of /checkResults/devel/bioc-LATEST/tigre/raw-results/lconway

[ICO]NameLast modifiedSizeDescription

[DIR]Parent Directory  -  
[TXT]buildbin-out.txt07-Jul-2022 00:10 2.4K 
[   ]buildbin-summary.dcf07-Jul-2022 00:10 518  
[TXT]buildsrc-out.txt07-Jul-2022 00:10 901  
[   ]buildsrc-summary.dcf07-Jul-2022 00:10 420  
[TXT]checksrc-out.txt07-Jul-2022 00:10 3.3K 
[   ]checksrc-summary.dcf07-Jul-2022 00:10 436  
[TXT]install-out.txt07-Jul-2022 00:10 1.6K 
[   ]install-summary.dcf07-Jul-2022 00:10 265