Index of /checkResults/devel/bioc-LATEST/terraTCGAdata/raw-results
Name
Last modified
Size
Description
Parent Directory
-
info.dcf
23-May-2024 00:35
283
kunpeng2/
16-May-2024 02:46
-
merida1/
23-May-2024 00:38
-
nebbiolo2/
23-May-2024 00:36
-
palomino4/
23-May-2024 00:37
-