Back to Multiple platform build/check report for BioC 3.15
ABCDEFGHIJKLMNOPQRS[T]UVWXYZ

This page was generated on 2022-01-17 11:08:33 -0500 (Mon, 17 Jan 2022).

HostnameOSArch (*)R versionInstalled pkgs
nebbiolo1Linux (Ubuntu 20.04.4 LTS)x86_64R Under development (unstable) (2022-01-05 r81451) -- "Unsuffered Consequences" 4161
riesling1Windows Server 2019 Standardx64R Under development (unstable) (2021-11-21 r81221) -- "Unsuffered Consequences" 4056
palomino3Windows Server 2022 Datacenterx64R Under development (unstable) (2021-12-21 r81400 ucrt) -- "Unsuffered Consequences" 3998
merida1macOS 10.14.6 Mojavex86_64R Under development (unstable) (2022-01-05 r81451) -- "Unsuffered Consequences" 4115
Click on any hostname to see more info about the system (e.g. compilers)      (*) as reported by 'uname -p', except on Windows and Mac OS X

CHECK results for ternarynet on riesling1


To the developers/maintainers of the ternarynet package:
- Please allow up to 24 hours (and sometimes 48 hours) for your latest push to git@git.bioconductor.org:packages/ternarynet.git to
reflect on this report. See How and When does the builder pull? When will my changes propagate? here for more information.
- Make sure to use the following settings in order to reproduce any error or warning you see on this page.

raw results

Package 1935/2074HostnameOS / ArchINSTALLBUILDCHECKBUILD BIN
ternarynet 1.39.0  (landing page)
McCall N. Matthew
Snapshot Date: 2022-01-16 13:55:18 -0500 (Sun, 16 Jan 2022)
git_url: https://git.bioconductor.org/packages/ternarynet
git_branch: master
git_last_commit: 5e7b0fe
git_last_commit_date: 2021-10-26 12:02:04 -0500 (Tue, 26 Oct 2021)
nebbiolo1Linux (Ubuntu 20.04.4 LTS) / x86_64  OK    OK    OK  UNNEEDED, same version is already published
riesling1Windows Server 2019 Standard / x64  OK    OK    OK    OK  
palomino3Windows Server 2022 Datacenter / x64  OK    OK    OK    OK  NO, package depends on 'BiocParallel' which is not available
merida1macOS 10.14.6 Mojave / x86_64  OK    OK    OK    OK  UNNEEDED, same version is already published

Summary

Package: ternarynet
Version: 1.39.0
Command: D:\biocbuild\bbs-3.15-bioc\R\bin\R.exe CMD check --no-multiarch --install=check:ternarynet.install-out.txt --library=D:\biocbuild\bbs-3.15-bioc\R\library --no-vignettes --timings ternarynet_1.39.0.tar.gz
StartedAt: 2022-01-16 20:21:02 -0500 (Sun, 16 Jan 2022)
EndedAt: 2022-01-16 20:22:27 -0500 (Sun, 16 Jan 2022)
EllapsedTime: 85.0 seconds
RetCode: 0
Status:   OK  
CheckDir: ternarynet.Rcheck
Warnings: 0

Command output

##############################################################################
##############################################################################
###
### Running command:
###
###   D:\biocbuild\bbs-3.15-bioc\R\bin\R.exe CMD check --no-multiarch --install=check:ternarynet.install-out.txt --library=D:\biocbuild\bbs-3.15-bioc\R\library --no-vignettes --timings ternarynet_1.39.0.tar.gz
###
##############################################################################
##############################################################################


* using log directory 'D:/biocbuild/bbs-3.15-bioc/meat/ternarynet.Rcheck'
* using R Under development (unstable) (2021-11-21 r81221)
* using platform: x86_64-w64-mingw32 (64-bit)
* using session charset: ISO8859-1
* using option '--no-vignettes'
* checking for file 'ternarynet/DESCRIPTION' ... OK
* this is package 'ternarynet' version '1.39.0'
* checking package namespace information ... OK
* checking package dependencies ... OK
* checking if this is a source package ... OK
* checking if there is a namespace ... OK
* checking for hidden files and directories ... OK
* checking for portable file names ... OK
* checking whether package 'ternarynet' can be installed ... OK
* checking installed package size ... OK
* checking package directory ... OK
* checking 'build' directory ... OK
* checking DESCRIPTION meta-information ... OK
* checking top-level files ... OK
* checking for left-over files ... OK
* checking index information ... OK
* checking package subdirectories ... OK
* checking R files for non-ASCII characters ... OK
* checking R files for syntax errors ... OK
* checking whether the package can be loaded ... OK
* checking whether the package can be loaded with stated dependencies ... OK
* checking whether the package can be unloaded cleanly ... OK
* checking whether the namespace can be loaded with stated dependencies ... OK
* checking whether the namespace can be unloaded cleanly ... OK
* checking dependencies in R code ... OK
* checking S3 generic/method consistency ... OK
* checking replacement functions ... OK
* checking foreign function calls ... OK
* checking R code for possible problems ... OK
* checking Rd files ... OK
* checking Rd metadata ... OK
* checking Rd cross-references ... OK
* checking for missing documentation entries ... OK
* checking for code/documentation mismatches ... OK
* checking Rd \usage sections ... OK
* checking Rd contents ... OK
* checking for unstated dependencies in examples ... OK
* checking line endings in shell scripts ... OK
* checking line endings in C/C++/Fortran sources/headers ... OK
* checking line endings in Makefiles ... OK
* checking compilation flags in Makevars ... OK
* checking for GNU extensions in Makefiles ... OK
* checking for portable use of $(BLAS_LIBS) and $(LAPACK_LIBS) ... OK
* checking use of PKG_*FLAGS in Makefiles ... OK
* checking compiled code ... NOTE
Note: information on .o files for x64 is not available
File 'D:/biocbuild/bbs-3.15-bioc/R/library/ternarynet/libs/x64/ternarynet.dll':
  Found 'abort', possibly from 'abort' (C), 'runtime' (Fortran)
  Found 'exit', possibly from 'exit' (C), 'stop' (Fortran)
  Found 'printf', possibly from 'printf' (C)

Compiled code should not call entry points which might terminate R nor
write to stdout/stderr instead of to the console, nor use Fortran I/O
nor system RNGs. The detected symbols are linked into the code but
might come from libraries and not actually be called.

See 'Writing portable packages' in the 'Writing R Extensions' manual.
* checking files in 'vignettes' ... OK
* checking examples ... OK
* checking for unstated dependencies in 'tests' ... OK
* checking tests ...
  Running 'test_smallmodel.R'
  Running 'test_smallmodel_2.R'
 OK
* checking for unstated dependencies in vignettes ... OK
* checking package vignettes in 'inst/doc' ... OK
* checking running R code from vignettes ... SKIPPED
* checking re-building of vignette outputs ... SKIPPED
* checking PDF version of manual ... OK
* DONE

Status: 1 NOTE
See
  'D:/biocbuild/bbs-3.15-bioc/meat/ternarynet.Rcheck/00check.log'
for details.



Installation output

ternarynet.Rcheck/00install.out

##############################################################################
##############################################################################
###
### Running command:
###
###   D:\biocbuild\bbs-3.15-bioc\R\bin\R.exe CMD INSTALL ternarynet
###
##############################################################################
##############################################################################


* installing to library 'D:/biocbuild/bbs-3.15-bioc/R/library'
* installing *source* package 'ternarynet' ...
** using staged installation
** libs
"C:/rtools40/mingw64/bin/"gcc  -I"D:/biocbuild/bbs-3.15-bioc/R/include" -DNDEBUG     -I"C:/extsoft/include"     -O2 -Wall  -std=gnu99 -mfpmath=sse -msse2 -mstackrealign -fno-reorder-blocks-and-partition  -c array.c -o array.o
"C:/rtools40/mingw64/bin/"gcc  -I"D:/biocbuild/bbs-3.15-bioc/R/include" -DNDEBUG     -I"C:/extsoft/include"     -O2 -Wall  -std=gnu99 -mfpmath=sse -msse2 -mstackrealign -fno-reorder-blocks-and-partition  -c gn.c -o gn.o
gn.c: In function 'score':
gn.c:486: warning: ignoring #pragma omp parallel [-Wunknown-pragmas]
 #pragma omp parallel for
 
gn.c:493: warning: ignoring #pragma omp atomic [-Wunknown-pragmas]
 #pragma omp atomic
 
"C:/rtools40/mingw64/bin/"gcc  -I"D:/biocbuild/bbs-3.15-bioc/R/include" -DNDEBUG     -I"C:/extsoft/include"     -O2 -Wall  -std=gnu99 -mfpmath=sse -msse2 -mstackrealign -fno-reorder-blocks-and-partition  -c gn_Rwrap.c -o gn_Rwrap.o
In file included from D:/biocbuild/bbs-3.15-bioc/R/include/R.h:71,
                 from gn_Rwrap.h:4,
                 from gn_Rwrap.c:1:
D:/biocbuild/bbs-3.15-bioc/R/include/R_ext/Arith.h:58:18: warning: 'R_NaReal' redeclared without dllimport attribute: previous dllimport ignored [-Wattributes]
 #define NA_REAL  R_NaReal
                  ^~~~~~~~
D:/biocbuild/bbs-3.15-bioc/R/include/Rmath.h:645:17: note: in expansion of macro 'NA_REAL'
 R_EXTERN double NA_REAL;
                 ^~~~~~~
In file included from gn_Rwrap.c:9:
D:/biocbuild/bbs-3.15-bioc/R/include/Rmath.h:646:17: warning: 'R_PosInf' redeclared without dllimport attribute: previous dllimport ignored [-Wattributes]
 R_EXTERN double R_PosInf;
                 ^~~~~~~~
D:/biocbuild/bbs-3.15-bioc/R/include/Rmath.h:647:17: warning: 'R_NegInf' redeclared without dllimport attribute: previous dllimport ignored [-Wattributes]
 R_EXTERN double R_NegInf;
                 ^~~~~~~~
"C:/rtools40/mingw64/bin/"gcc  -I"D:/biocbuild/bbs-3.15-bioc/R/include" -DNDEBUG     -I"C:/extsoft/include"     -O2 -Wall  -std=gnu99 -mfpmath=sse -msse2 -mstackrealign -fno-reorder-blocks-and-partition  -c init.c -o init.o
"C:/rtools40/mingw64/bin/"g++ -std=gnu++11  -I"D:/biocbuild/bbs-3.15-bioc/R/include" -DNDEBUG     -I"C:/extsoft/include"     -O2 -Wall  -mfpmath=sse -msse2 -mstackrealign -fno-reorder-blocks-and-partition  -c tnetfit.cc -o tnetfit.o
tnetfit.cc: In function 'SEXPREC* tnetfit(SEXP, SEXP, SEXP, SEXP, SEXP, SEXP, SEXP, SEXP, SEXP, SEXP, SEXP, SEXP, SEXP, SEXP, SEXP, SEXP, SEXP, SEXP, SEXP, SEXP, SEXP, SEXP)':
tnetfit.cc:24:9: warning: variable 'perturbationType' set but not used [-Wunused-but-set-variable]
     int perturbationType, scoreType, backupStage, maxStage, maxTransition;
         ^~~~~~~~~~~~~~~~
tnetfit.cc:24:27: warning: variable 'scoreType' set but not used [-Wunused-but-set-variable]
     int perturbationType, scoreType, backupStage, maxStage, maxTransition;
                           ^~~~~~~~~
tnetfit.cc:24:38: warning: variable 'backupStage' set but not used [-Wunused-but-set-variable]
     int perturbationType, scoreType, backupStage, maxStage, maxTransition;
                                      ^~~~~~~~~~~
tnetfit.cc:73:39: warning: unused variable 'tempi' [-Wunused-variable]
     int nOutcomes=3, l0, stage_count, tempi, jtrans, nTransition;
                                       ^~~~~
tnetfit.cc:311:19: warning: 'newScore' may be used uninitialized in this function [-Wmaybe-uninitialized]
     SET_VECTOR_ELT(Routput, 10, ScalarReal(newScore));
     ~~~~~~~~~~~~~~^~~~~~~~~~~~~~~~~~~~~~~~~~~~~~~~~~~
tnetfit.cc:207:25: warning: 'muci_old' may be used uninitialized in this function [-Wmaybe-uninitialized]
      convergence = (muci-muci_old)/sigma0;
                    ~~~~~^~~~~~~~~~
tnetfit.cc:202:36: warning: 'sigmaci' may be used uninitialized in this function [-Wmaybe-uninitialized]
    sigmaci = rho*sigmaRaw + (1-rho)*sigmaci;
                             ~~~~~~~^~~~~~~~
tnetfit.cc:207:18: warning: 'sigma0' may be used uninitialized in this function [-Wmaybe-uninitialized]
      convergence = (muci-muci_old)/sigma0;
      ~~~~~~~~~~~~^~~~~~~~~~~~~~~~~~~~~~~~
"C:/rtools40/mingw64/bin/"g++ -std=gnu++11  -I"D:/biocbuild/bbs-3.15-bioc/R/include" -DNDEBUG     -I"C:/extsoft/include"     -O2 -Wall  -mfpmath=sse -msse2 -mstackrealign -fno-reorder-blocks-and-partition  -c tnetfuncs.cc -o tnetfuncs.o
tnetfuncs.cc: In function 'double AttractorDistanceForced(int, int, int, int, double, int*, int*, int*, const double*, const int*)':
tnetfuncs.cc:427:5: warning: unused variable 'tableWidth' [-Wunused-variable]
 int tableWidth = powi(nOutcomes,maxDegree);
     ^~~~~~~~~~
tnetfuncs.cc:435:5: warning: unused variable 'ipause' [-Wunused-variable]
 int ipause;
     ^~~~~~
tnetfuncs.cc: In function 'double initialTemp(double, int, int, int, int, int, double, double, double, int, const double*, int*, int*, int*, const double*, const int*)':
tnetfuncs.cc:517:6: warning: unused variable 'ipause' [-Wunused-variable]
  int ipause;
      ^~~~~~
tnetfuncs.cc:521:16: warning: unused variable 'i' [-Wunused-variable]
    int m1, m2, i;
                ^
"C:/rtools40/mingw64/bin/"g++ -std=gnu++11  -I"D:/biocbuild/bbs-3.15-bioc/R/include" -DNDEBUG     -I"C:/extsoft/include"     -O2 -Wall  -mfpmath=sse -msse2 -mstackrealign -fno-reorder-blocks-and-partition  -c tnetpost.cc -o tnetpost.o
tnetpost.cc: In function 'SEXPREC* tnetpost(SEXP, SEXP, SEXP, SEXP, SEXP, SEXP, SEXP, SEXP, SEXP, SEXP, SEXP, SEXP, SEXP, SEXP, SEXP, SEXP, SEXP, SEXP, SEXP, SEXP, SEXP, SEXP, SEXP, SEXP, SEXP, SEXP, SEXP, SEXP, SEXP, SEXP, SEXP, SEXP)':
tnetpost.cc:25:9: warning: unused variable 'ipause' [-Wunused-variable]
     int ipause;
         ^~~~~~
tnetpost.cc:27:9: warning: unused variable 'm0fit' [-Wunused-variable]
     int m0fit;
         ^~~~~
tnetpost.cc:28:32: warning: variable 'minScore' set but not used [-Wunused-but-set-variable]
     double newScore, oldScore, minScore, finalScore;
                                ^~~~~~~~
tnetpost.cc:28:42: warning: unused variable 'finalScore' [-Wunused-variable]
     double newScore, oldScore, minScore, finalScore;
                                          ^~~~~~~~~~
tnetpost.cc:30:9: warning: unused variable 'l0' [-Wunused-variable]
     int l0, stage_count, tempi, jtrans, nTransition;
         ^~
tnetpost.cc:30:13: warning: unused variable 'stage_count' [-Wunused-variable]
     int l0, stage_count, tempi, jtrans, nTransition;
             ^~~~~~~~~~~
tnetpost.cc:30:26: warning: unused variable 'tempi' [-Wunused-variable]
     int l0, stage_count, tempi, jtrans, nTransition;
                          ^~~~~
tnetpost.cc:30:33: warning: unused variable 'jtrans' [-Wunused-variable]
     int l0, stage_count, tempi, jtrans, nTransition;
                                 ^~~~~~
tnetpost.cc:30:41: warning: unused variable 'nTransition' [-Wunused-variable]
     int l0, stage_count, tempi, jtrans, nTransition;
                                         ^~~~~~~~~~~
tnetpost.cc:36:21: warning: variable 'xSeedFit' set but not used [-Wunused-but-set-variable]
     int m0, mdelta, xSeedFit;
                     ^~~~~~~~
tnetpost.cc:38:9: warning: variable 'perturbationType' set but not used [-Wunused-but-set-variable]
     int perturbationType, scoreType, backupStage;
         ^~~~~~~~~~~~~~~~
tnetpost.cc:38:27: warning: variable 'scoreType' set but not used [-Wunused-but-set-variable]
     int perturbationType, scoreType, backupStage;
                           ^~~~~~~~~
tnetpost.cc:38:38: warning: variable 'backupStage' set but not used [-Wunused-but-set-variable]
     int perturbationType, scoreType, backupStage;
                                      ^~~~~~~~~~~
tnetpost.cc:39:9: warning: variable 'maxStage' set but not used [-Wunused-but-set-variable]
     int maxStage, maxTransition;
         ^~~~~~~~
tnetpost.cc:39:19: warning: variable 'maxTransition' set but not used [-Wunused-but-set-variable]
     int maxStage, maxTransition;
                   ^~~~~~~~~~~~~
tnetpost.cc:40:12: warning: variable 'epsilon' set but not used [-Wunused-but-set-variable]
     double epsilon, chi0, delta, rho;
            ^~~~~~~
tnetpost.cc:40:21: warning: variable 'chi0' set but not used [-Wunused-but-set-variable]
     double epsilon, chi0, delta, rho;
                     ^~~~
tnetpost.cc:40:27: warning: variable 'delta' set but not used [-Wunused-but-set-variable]
     double epsilon, chi0, delta, rho;
                           ^~~~~
tnetpost.cc:40:34: warning: variable 'rho' set but not used [-Wunused-but-set-variable]
     double epsilon, chi0, delta, rho;
                                  ^~~
In file included from tnetpost.cc:14:
D:/biocbuild/bbs-3.15-bioc/R/include/Rmath.h:209:15: warning: variable 'Rf_beta' set but not used [-Wunused-but-set-variable]
 #define beta  Rf_beta
               ^~~~~~~
tnetpost.cc:41:9: note: in expansion of macro 'beta'
     int beta;
         ^~~~
tnetpost.cc:44:9: warning: variable 'ne' set but not used [-Wunused-but-set-variable]
     int ne, maxDegree;
         ^~
tnetpost.cc:150:10: warning: variable 'minDump' set but not used [-Wunused-but-set-variable]
     bool minDump = true;
          ^~~~~~~
"C:/rtools40/mingw64/bin/"gcc  -I"D:/biocbuild/bbs-3.15-bioc/R/include" -DNDEBUG     -I"C:/extsoft/include"     -O2 -Wall  -std=gnu99 -mfpmath=sse -msse2 -mstackrealign -fno-reorder-blocks-and-partition  -c util.c -o util.o
C:/rtools40/mingw64/bin/g++ -std=gnu++11 -shared -s -static-libgcc -o ternarynet.dll tmp.def array.o gn.o gn_Rwrap.o init.o tnetfit.o tnetfuncs.o tnetpost.o util.o -LC:/extsoft/lib/x64 -LC:/extsoft/lib -LD:/biocbuild/bbs-3.15-bioc/R/bin/x64 -lR
installing to D:/biocbuild/bbs-3.15-bioc/R/library/00LOCK-ternarynet/00new/ternarynet/libs/x64
** R
** inst
** byte-compile and prepare package for lazy loading
** help
*** installing help indices
  converting help for package 'ternarynet'
    finding HTML links ... done
    attractorSummary                        html  
    graphPosterior                          html  
    parallelFit                             html  
    plotFit                                 html  
    plotPost                                html  
    plotTraces                              html  
    predictAttractor                        html  
    simulateSteadyState                     html  
    ternaryFit-class                        html  
    ternaryFitParameters-class              html  
    ternaryPost-class                       html  
    tnetfit                                 html  
    tnetpost                                html  
** building package indices
** installing vignettes
** testing if installed package can be loaded from temporary location
** testing if installed package can be loaded from final location
** testing if installed package keeps a record of temporary installation path
* DONE (ternarynet)
Making 'packages.html' ... done

Tests output

ternarynet.Rcheck/tests/test_smallmodel.Rout


R Under development (unstable) (2021-11-21 r81221) -- "Unsuffered Consequences"
Copyright (C) 2021 The R Foundation for Statistical Computing
Platform: x86_64-w64-mingw32/x64 (64-bit)

R is free software and comes with ABSOLUTELY NO WARRANTY.
You are welcome to redistribute it under certain conditions.
Type 'license()' or 'licence()' for distribution details.

R is a collaborative project with many contributors.
Type 'contributors()' for more information and
'citation()' on how to cite R or R packages in publications.

Type 'demo()' for some demos, 'help()' for on-line help, or
'help.start()' for an HTML browser interface to help.
Type 'q()' to quit R.

> library(testthat)
> library(ternarynet) 
> 
> smallmodel_score <- function() {
+ 
+     library(ternarynet)
+ 
+     i_exp <- as.integer(c(0,0,0, 0,0,0, 0,0,0, 0,0,0,
+                           1,1,1, 1,1,1, 1,1,1, 1,1,1,
+                           2,2,2, 2,2,2, 2,2,2, 2,2,2,
+                           3,3,3, 3,3,3, 3,3,3, 3,3,3,
+                           4,4,4, 4,4,4, 4,4,4, 4,4,4,
+                           5,5,5, 5,5,5, 5,5,5, 5,5,5,
+                           6,6,6, 6,6,6, 6,6,6, 6,6,6,
+                           7,7,7, 7,7,7, 7,7,7, 7,7,7))
+ 
+     i_node <- as.integer(c(0,0,0, 1,1,1, 2,2,2, 3,3,3,
+                            0,0,0, 1,1,1, 2,2,2, 3,3,3,
+                            0,0,0, 1,1,1, 2,2,2, 3,3,3,
+                            0,0,0, 1,1,1, 2,2,2, 3,3,3,
+                            0,0,0, 1,1,1, 2,2,2, 3,3,3,
+                            0,0,0, 1,1,1, 2,2,2, 3,3,3,
+                            0,0,0, 1,1,1, 2,2,2, 3,3,3,
+                            0,0,0, 1,1,1, 2,2,2, 3,3,3))
+ 
+     outcome <- as.integer(c(-1,0,1, -1,0,1, -1,0,1, -1,0,1,
+                             -1,0,1, -1,0,1, -1,0,1, -1,0,1,
+                             -1,0,1, -1,0,1, -1,0,1, -1,0,1,
+                             -1,0,1, -1,0,1, -1,0,1, -1,0,1,
+                             -1,0,1, -1,0,1, -1,0,1, -1,0,1,
+                             -1,0,1, -1,0,1, -1,0,1, -1,0,1,
+                             -1,0,1, -1,0,1, -1,0,1, -1,0,1,
+                             -1,0,1, -1,0,1, -1,0,1, -1,0,1))
+ 
+     value <- c(0,1,2, 0,1,2, 0,1,2, 0,1,2,
+                2,1,0, 0,1,2, 0,1,2, 0,1,2,
+                2,1,0, 2,1,0, 0,1,2, 0,1,2,
+                2,1,0, 2,1,0, 2,1,0, 0,1,2,
+                2,1,0, 2,1,0, 2,1,0, 2,1,0,
+                0,1,2, 2,1,0, 2,1,0, 2,1,0,
+                0,1,2, 0,1,2, 2,1,0, 2,1,0,
+                0,1,2, 0,1,2, 0,1,2, 2,1,0)
+ 
+     is_perturbation <- c(TRUE,TRUE,TRUE,  FALSE,FALSE,FALSE, FALSE,FALSE,FALSE, FALSE,FALSE,FALSE,
+                          FALSE,FALSE,FALSE,  TRUE,TRUE,TRUE, FALSE,FALSE,FALSE, FALSE,FALSE,FALSE,
+                          FALSE,FALSE,FALSE,  FALSE,FALSE,FALSE, TRUE,TRUE,TRUE, FALSE,FALSE,FALSE,
+                          FALSE,FALSE,FALSE,  FALSE,FALSE,FALSE, FALSE,FALSE,FALSE, TRUE,TRUE,TRUE,
+                          TRUE,TRUE,TRUE,  FALSE,FALSE,FALSE, FALSE,FALSE,FALSE, FALSE,FALSE,FALSE,
+                          FALSE,FALSE,FALSE,  TRUE,TRUE,TRUE, FALSE,FALSE,FALSE, FALSE,FALSE,FALSE,
+                          FALSE,FALSE,FALSE,  FALSE,FALSE,FALSE, TRUE,TRUE,TRUE, FALSE,FALSE,FALSE,
+                          FALSE,FALSE,FALSE,  FALSE,FALSE,FALSE, FALSE,FALSE,FALSE, TRUE,TRUE,TRUE)
+ 
+     indata <- data.frame(i_exp,i_node,outcome,value,is_perturbation)
+ 
+     results <- parallelFit(indata,
+                             max_parents=1,
+                             n_cycles=1000000,
+                             n_write=10,
+                             T_lo=0.001,
+                             T_hi=1.0,
+                             target_score=0,
+                             n_proc=1,
+                             logfile='try.log')
+     
+     lowest_temp_results <- results[[1]]
+ 
+     lowest_temp_results$unnormalized_score
+ 
+ }
>    
> test_that("smallmodel", {
+     expect_true(smallmodel_score() == 0)
+ })
Test passed 
> 
> proc.time()
   user  system elapsed 
   1.37    0.10    1.46 

ternarynet.Rcheck/tests/test_smallmodel_2.Rout


R Under development (unstable) (2021-11-21 r81221) -- "Unsuffered Consequences"
Copyright (C) 2021 The R Foundation for Statistical Computing
Platform: x86_64-w64-mingw32/x64 (64-bit)

R is free software and comes with ABSOLUTELY NO WARRANTY.
You are welcome to redistribute it under certain conditions.
Type 'license()' or 'licence()' for distribution details.

R is a collaborative project with many contributors.
Type 'contributors()' for more information and
'citation()' on how to cite R or R packages in publications.

Type 'demo()' for some demos, 'help()' for on-line help, or
'help.start()' for an HTML browser interface to help.
Type 'q()' to quit R.

> library(testthat)
> library(ternarynet) 
> 
> smallmodel_2_score <- function() {
+ 
+     library(ternarynet)
+ 
+     i_exp <- as.integer(c(0,0,0, 0,0,0, 0,0,0,
+                         1,1,1, 1,1,1, 1,1,1,
+                         2,2,2, 2,2,2, 2,2,2,
+                         3,3,3, 3,3,3, 3,3,3,
+                         4,4,4, 4,4,4, 4,4,4,
+                         5,5,5, 5,5,5, 5,5,5,
+                         6,6,6, 6,6,6, 6,6,6,
+                         7,7,7, 7,7,7, 7,7,7,
+                         8,8,8, 8,8,8, 8,8,8,
+                         9,9,9, 9,9,9, 9,9,9,
+                         10,10,10, 10,10,10, 10,10,10,
+                         11,11,11, 11,11,11, 11,11,11,
+                         12,12,12, 12,12,12, 12,12,12,
+                         13,13,13, 13,13,13, 13,13,13,
+                         14,14,14, 14,14,14, 14,14,14,
+                         15,15,15, 15,15,15, 15,15,15,
+                         16,16,16, 16,16,16, 16,16,16,
+                         17,17,17, 17,17,17, 17,17,17))
+ 
+     i_node <- as.integer(c(0,0,0, 1,1,1, 2,2,2,
+                         0,0,0, 1,1,1, 2,2,2,
+                         0,0,0, 1,1,1, 2,2,2,
+                         0,0,0, 1,1,1, 2,2,2,
+                         0,0,0, 1,1,1, 2,2,2,
+                         0,0,0, 1,1,1, 2,2,2,
+                         0,0,0, 1,1,1, 2,2,2,
+                         0,0,0, 1,1,1, 2,2,2,
+                         0,0,0, 1,1,1, 2,2,2,
+                         0,0,0, 1,1,1, 2,2,2,
+                         0,0,0, 1,1,1, 2,2,2,
+                         0,0,0, 1,1,1, 2,2,2,
+                         0,0,0, 1,1,1, 2,2,2,
+                         0,0,0, 1,1,1, 2,2,2,
+                         0,0,0, 1,1,1, 2,2,2,
+                         0,0,0, 1,1,1, 2,2,2,
+                         0,0,0, 1,1,1, 2,2,2,
+                         0,0,0, 1,1,1, 2,2,2))
+ 
+     outcome <- as.integer(c(-1,0,1, -1,0,1, -1,0,1,
+                             -1,0,1, -1,0,1, -1,0,1,
+                             -1,0,1, -1,0,1, -1,0,1,
+                             -1,0,1, -1,0,1, -1,0,1,
+                             -1,0,1, -1,0,1, -1,0,1,
+                             -1,0,1, -1,0,1, -1,0,1,
+                             -1,0,1, -1,0,1, -1,0,1,
+                             -1,0,1, -1,0,1, -1,0,1,
+                             -1,0,1, -1,0,1, -1,0,1,
+                             -1,0,1, -1,0,1, -1,0,1,
+                             -1,0,1, -1,0,1, -1,0,1,
+                             -1,0,1, -1,0,1, -1,0,1,
+                             -1,0,1, -1,0,1, -1,0,1,
+                             -1,0,1, -1,0,1, -1,0,1,
+                             -1,0,1, -1,0,1, -1,0,1,
+                             -1,0,1, -1,0,1, -1,0,1,
+                             -1,0,1, -1,0,1, -1,0,1,
+                             -1,0,1, -1,0,1, -1,0,1))
+ 
+     value <- c(2,1,0, 1,0,1, 2,1,0,
+             1,0,1, 2,1,0, 0,1,2,
+             1,0,1, 1,0,1, 2,1,0,
+             0,1,2, 1,0,1, 0,1,2,
+             1,0,1, 0,1,2, 2,1,0,
+             1,0,1, 1,0,1, 0,1,2,
+             2,1,0, 1,0,1, 2,1,0,
+             0,1,2, 1,0,1, 0,1,2,
+             1,0,1, 2,1,0, 0,1,2,
+             1,0,1, 0,1,2, 2,1,0,
+             2,1,0, 2,1,0, 1,0,1,
+             0,1,2, 0,1,2, 1,0,1,
+             2,1,0, 0,1,2, 2,1,0,
+             0,1,2, 2,1,0, 0,1,2,
+             2,1,0, 1,0,1, 0,1,2,
+             0,1,2, 1,0,1, 2,1,0,
+             1,0,1, 2,1,0, 2,1,0,
+             1,0,1, 0,1,2, 0,1,2)
+ 
+     is_perturbation <- c(TRUE,TRUE,TRUE,  FALSE,FALSE,FALSE, FALSE,FALSE,FALSE,
+                         FALSE,FALSE,FALSE,  TRUE,TRUE,TRUE, FALSE,FALSE,FALSE,
+                         FALSE,FALSE,FALSE,  FALSE,FALSE,FALSE, TRUE,TRUE,TRUE,
+                         TRUE,TRUE,TRUE,  FALSE,FALSE,FALSE, FALSE,FALSE,FALSE,
+                         FALSE,FALSE,FALSE,  TRUE,TRUE,TRUE, FALSE,FALSE,FALSE,
+                         FALSE,FALSE,FALSE,  FALSE,FALSE,FALSE, TRUE,TRUE,TRUE,
+                         TRUE,TRUE,TRUE,  FALSE,FALSE,FALSE, TRUE,TRUE,TRUE,
+                         TRUE,TRUE,TRUE,  FALSE,FALSE,FALSE, TRUE,TRUE,TRUE,
+                         FALSE,FALSE,FALSE,  TRUE,TRUE,TRUE, TRUE,TRUE,TRUE,
+                         FALSE,FALSE,FALSE,  TRUE,TRUE,TRUE, TRUE,TRUE,TRUE,
+                         TRUE,TRUE,TRUE,  TRUE,TRUE,TRUE, FALSE,FALSE,FALSE,
+                         TRUE,TRUE,TRUE,  TRUE,TRUE,TRUE, FALSE,FALSE,FALSE,
+                         TRUE,TRUE,TRUE,  TRUE,TRUE,TRUE, FALSE,FALSE,FALSE,
+                         TRUE,TRUE,TRUE,  TRUE,TRUE,TRUE, FALSE,FALSE,FALSE,
+                         TRUE,TRUE,TRUE,  FALSE,FALSE,FALSE, TRUE,TRUE,TRUE,
+                         TRUE,TRUE,TRUE,  FALSE,FALSE,FALSE, TRUE,TRUE,TRUE,
+                         FALSE,FALSE,FALSE,  TRUE,TRUE,TRUE, TRUE,TRUE,TRUE,
+                         FALSE,FALSE,FALSE,  TRUE,TRUE,TRUE, TRUE,TRUE,TRUE)
+ 
+     indata <- data.frame(i_exp,i_node,outcome,value,is_perturbation)
+ 
+     results <- parallelFit(indata,
+                             max_parents=2,
+                             n_cycles=1000000,
+                             n_write=10,
+                             T_lo=0.001,
+                             T_hi=2.0,
+                             target_score=0,
+                             n_proc=1,
+                             logfile='try2.log')
+     
+     lowest_temp_results <- results[[1]]
+ 
+     lowest_temp_results$unnormalized_score
+ 
+ }
>    
> test_that("smallmodel_2", {
+     expect_true(smallmodel_2_score() == 0)
+ })
Test passed 
> 
> proc.time()
   user  system elapsed 
   1.17    0.09    1.25 

Example timings

ternarynet.Rcheck/ternarynet-Ex.timings

nameusersystemelapsed
attractorSummary3.920.003.93
graphPosterior4.310.004.31
parallelFit0.230.030.27
plotFit4.140.004.14
plotPost4.280.004.28
plotTraces4.470.004.47
predictAttractor4.420.004.42
simulateSteadyState0.000.010.02
ternaryFit-class4.410.004.40
ternaryFitParameters-class000
ternaryPost-class3.630.003.63
tnetfit3.560.003.56
tnetpost3.50.03.5