Index of /checkResults/devel/bioc-LATEST/tenXplore/raw-results/merida1
Name
Last modified
Size
Description
Parent Directory
-
buildsrc-out.txt
07-May-2024 00:38
902
buildsrc-summary.dcf
07-May-2024 00:38
346
install-out.txt
07-May-2024 00:38
703
install-summary.dcf
07-May-2024 00:38
275