Index of /checkResults/devel/bioc-LATEST/tRanslatome/raw-results/kunpeng2
Name
Last modified
Size
Description
Parent Directory
-
install-summary.dcf
16-May-2024 02:46
278
install-out.txt
16-May-2024 02:46
1.2K
buildsrc-summary.dcf
16-May-2024 02:46
441
buildsrc-out.txt
16-May-2024 02:46
896