Back to Multiple platform build/check report for BioC 3.15
ABCDEFGHIJKLMNOPQRS[T]UVWXYZ

This page was generated on 2021-11-27 14:05:58 -0500 (Sat, 27 Nov 2021).

BUILD results for tRanslatome on merida1

To the developers/maintainers of the tRanslatome package:
- Please allow up to 24 hours (and sometimes 48 hours) for your latest push to git@git.bioconductor.org:packages/tRanslatome.git to
reflect on this report. See How and When does the builder pull? When will my changes propagate? here for more information.
- Make sure to use the following settings in order to reproduce any error or warning you see on this page.

raw results

Package 1972/2068HostnameOS / ArchINSTALLBUILDCHECKBUILD BIN
tRanslatome 1.33.0  (landing page)
Toma Tebaldi , Erik Dassi
Snapshot Date: 2021-11-26 14:50:14 -0500 (Fri, 26 Nov 2021)
git_url: https://git.bioconductor.org/packages/tRanslatome
git_branch: master
git_last_commit: cdad2f0
git_last_commit_date: 2021-10-26 12:08:16 -0500 (Tue, 26 Oct 2021)
nebbiolo1Linux (Ubuntu 20.04.3 LTS) / x86_64  OK    OK    WARNINGS  UNNEEDED, same version is already published
riesling1Windows Server 2019 Standard / x64  OK    OK    WARNINGS    OK  
merida1macOS 10.14.6 Mojave / x86_64  OK    OK    WARNINGS    OK  UNNEEDED, same version is already published

Summary

Package: tRanslatome
Version: 1.33.0
Command: /Library/Frameworks/R.framework/Resources/bin/R CMD build --keep-empty-dirs --no-resave-data tRanslatome
StartedAt: 2021-11-26 23:32:39 -0500 (Fri, 26 Nov 2021)
EndedAt: 2021-11-26 23:34:36 -0500 (Fri, 26 Nov 2021)
EllapsedTime: 117.0 seconds
RetCode: 0
Status:   OK  
PackageFile: tRanslatome_1.33.0.tar.gz
PackageFileSize: 827.2 KiB

Command output

##############################################################################
##############################################################################
###
### Running command:
###
###   /Library/Frameworks/R.framework/Resources/bin/R CMD build --keep-empty-dirs --no-resave-data tRanslatome
###
##############################################################################
##############################################################################


* checking for file ‘tRanslatome/DESCRIPTION’ ... OK
* preparing ‘tRanslatome’:
* checking DESCRIPTION meta-information ... OK
* installing the package to build vignettes
* creating vignettes ... OK
* checking for LF line-endings in source and make files and shell scripts
* checking for empty or unneeded directories
* looking to see if a ‘data/datalist’ file should be added
* building ‘tRanslatome_1.33.0.tar.gz’