Index of /checkResults/devel/bioc-LATEST/tRNAscanImport/raw-results
Name
Last modified
Size
Description
Parent Directory
-
info.dcf
01-Jul-2022 00:08
289
lconway/
01-Jul-2022 00:08
-
nebbiolo2/
01-Jul-2022 00:05
-
palomino4/
01-Jul-2022 00:07
-