Index of /checkResults/devel/bioc-LATEST/tLOH/raw-results

[ICO]NameLast modifiedSizeDescription

[DIR]Parent Directory  -  
[   ]info.dcf31-May-2023 00:08 254  
[DIR]lconway/31-May-2023 00:08 -  
[DIR]nebbiolo2/31-May-2023 00:06 -  
[DIR]palomino4/31-May-2023 00:07 -