Index of /checkResults/devel/bioc-LATEST/synapter/raw-results

[ICO]NameLast modifiedSizeDescription

[DIR]Parent Directory  -  
[   ]info.dcf29-May-2022 00:08 274  
[DIR]lconway/29-May-2022 00:08 -  
[DIR]nebbiolo2/29-May-2022 00:05 -  
[DIR]palomino4/29-May-2022 00:07 -