Index of /checkResults/devel/bioc-LATEST/swfdr/raw-results

[ICO]NameLast modifiedSizeDescription

[DIR]Parent Directory  -  
[   ]info.dcf05-Dec-2023 01:39 1.2K 
[DIR]kunpeng2/05-Dec-2023 01:39 -  
[DIR]merida1/05-Dec-2023 01:38 -  
[DIR]nebbiolo1/05-Dec-2023 01:36 -  
[DIR]palomino3/05-Dec-2023 01:37 -