Back to Multiple platform build/check report for BioC 3.15
ABCDEFGHIJKLMNOPQR[S]TUVWXYZ

This page was generated on 2022-01-21 11:08:45 -0500 (Fri, 21 Jan 2022).

HostnameOSArch (*)R versionInstalled pkgs
nebbiolo1Linux (Ubuntu 20.04.4 LTS)x86_64R Under development (unstable) (2022-01-05 r81451) -- "Unsuffered Consequences" 4163
riesling1Windows Server 2019 Standardx64R Under development (unstable) (2021-11-21 r81221) -- "Unsuffered Consequences" 4058
palomino3Windows Server 2022 Datacenterx64R Under development (unstable) (2021-12-21 r81400 ucrt) -- "Unsuffered Consequences" 4000
merida1macOS 10.14.6 Mojavex86_64R Under development (unstable) (2022-01-05 r81451) -- "Unsuffered Consequences" 4117
Click on any hostname to see more info about the system (e.g. compilers)      (*) as reported by 'uname -p', except on Windows and Mac OS X

BUILD BIN results for svaNUMT on riesling1


To the developers/maintainers of the svaNUMT package:
- Please allow up to 24 hours (and sometimes 48 hours) for your latest push to git@git.bioconductor.org:packages/svaNUMT.git to
reflect on this report. See How and When does the builder pull? When will my changes propagate? here for more information.
- Make sure to use the following settings in order to reproduce any error or warning you see on this page.

raw results

Package 1903/2075HostnameOS / ArchINSTALLBUILDCHECKBUILD BIN
svaNUMT 1.1.0  (landing page)
Ruining Dong
Snapshot Date: 2022-01-20 13:55:17 -0500 (Thu, 20 Jan 2022)
git_url: https://git.bioconductor.org/packages/svaNUMT
git_branch: master
git_last_commit: e7ecae5
git_last_commit_date: 2021-10-26 13:11:07 -0500 (Tue, 26 Oct 2021)
nebbiolo1Linux (Ubuntu 20.04.4 LTS) / x86_64  OK    OK    OK  UNNEEDED, same version is already published
riesling1Windows Server 2019 Standard / x64  OK    OK    OK    OK  
palomino3Windows Server 2022 Datacenter / x64  OK    OK    OK    OK  NO, package depends on 'GenomicRanges' which is not available
merida1macOS 10.14.6 Mojave / x86_64  OK    OK    OK    OK  UNNEEDED, same version is already published

Summary

Package: svaNUMT
Version: 1.1.0
Command: rm -rf svaNUMT.buildbin-libdir && mkdir svaNUMT.buildbin-libdir && D:\biocbuild\bbs-3.15-bioc\R\bin\R.exe CMD INSTALL --build --library=svaNUMT.buildbin-libdir svaNUMT_1.1.0.tar.gz
StartedAt: 2022-01-20 21:22:05 -0500 (Thu, 20 Jan 2022)
EndedAt: 2022-01-20 21:23:20 -0500 (Thu, 20 Jan 2022)
EllapsedTime: 74.8 seconds
RetCode: 0
Status:   OK  
PackageFile: svaNUMT_1.1.0.zip
PackageFileSize: 593.4 KiB

Command output

##############################################################################
##############################################################################
###
### Running command:
###
###   rm -rf svaNUMT.buildbin-libdir && mkdir svaNUMT.buildbin-libdir && D:\biocbuild\bbs-3.15-bioc\R\bin\R.exe CMD INSTALL --build --library=svaNUMT.buildbin-libdir svaNUMT_1.1.0.tar.gz
###
##############################################################################
##############################################################################


* installing *source* package 'svaNUMT' ...
** using staged installation
** R
** inst
** byte-compile and prepare package for lazy loading
** help
*** installing help indices
  converting help for package 'svaNUMT'
    finding HTML links ... done
    dot-mtLen                               html  
    numtDetect                              html  
    svaNUMT                                 html  
** building package indices
** installing vignettes
** testing if installed package can be loaded from temporary location
** testing if installed package can be loaded from final location
** testing if installed package keeps a record of temporary installation path
* MD5 sums
packaged installation of 'svaNUMT' as svaNUMT_1.1.0.zip
* DONE (svaNUMT)