Index of /checkResults/devel/bioc-LATEST/svaNUMT/raw-results/nebbiolo2

[ICO]NameLast modifiedSizeDescription

[DIR]Parent Directory  -  
[TXT]buildsrc-out.txt02-Jul-2022 00:05 805  
[   ]buildsrc-summary.dcf02-Jul-2022 00:05 415  
[TXT]checksrc-out.txt02-Jul-2022 00:05 3.7K 
[   ]checksrc-summary.dcf02-Jul-2022 00:05 422  
[TXT]install-out.txt02-Jul-2022 00:05 947  
[   ]install-summary.dcf02-Jul-2022 00:05 258