Index of /checkResults/devel/bioc-LATEST/sva/raw-results
Name
Last modified
Size
Description
Parent Directory
-
info.dcf
10-Aug-2022 00:08
329
kjohnson/
12-Jul-2022 00:06
-
lconway/
10-Aug-2022 00:08
-
nebbiolo2/
10-Aug-2022 00:05
-
palomino4/
10-Aug-2022 00:07
-