Back to Multiple platform build/check report for BioC 3.15
ABCDEFGHIJKLMNOPQR[S]TUVWXYZ

This page was generated on 2021-11-27 14:05:57 -0500 (Sat, 27 Nov 2021).

BUILD results for sva on merida1

To the developers/maintainers of the sva package:
- Please allow up to 24 hours (and sometimes 48 hours) for your latest push to git@git.bioconductor.org:packages/sva.git to
reflect on this report. See How and When does the builder pull? When will my changes propagate? here for more information.
- Make sure to use the following settings in order to reproduce any error or warning you see on this page.

raw results

Package 1895/2068HostnameOS / ArchINSTALLBUILDCHECKBUILD BIN
sva 3.43.0  (landing page)
Jeffrey T. Leek , John D. Storey
Snapshot Date: 2021-11-26 14:50:14 -0500 (Fri, 26 Nov 2021)
git_url: https://git.bioconductor.org/packages/sva
git_branch: master
git_last_commit: 0e532fb
git_last_commit_date: 2021-10-26 12:00:51 -0500 (Tue, 26 Oct 2021)
nebbiolo1Linux (Ubuntu 20.04.3 LTS) / x86_64  OK    OK    OK  UNNEEDED, same version is already published
riesling1Windows Server 2019 Standard / x64  OK    OK    OK    OK  
merida1macOS 10.14.6 Mojave / x86_64  OK    OK    OK    OK  UNNEEDED, same version is already published

Summary

Package: sva
Version: 3.43.0
Command: /Library/Frameworks/R.framework/Resources/bin/R CMD build --keep-empty-dirs --no-resave-data sva
StartedAt: 2021-11-26 23:23:36 -0500 (Fri, 26 Nov 2021)
EndedAt: 2021-11-26 23:24:53 -0500 (Fri, 26 Nov 2021)
EllapsedTime: 76.6 seconds
RetCode: 0
Status:   OK  
PackageFile: sva_3.43.0.tar.gz
PackageFileSize: 431.1 KiB

Command output

##############################################################################
##############################################################################
###
### Running command:
###
###   /Library/Frameworks/R.framework/Resources/bin/R CMD build --keep-empty-dirs --no-resave-data sva
###
##############################################################################
##############################################################################


* checking for file ‘sva/DESCRIPTION’ ... OK
* preparing ‘sva’:
* checking DESCRIPTION meta-information ... OK
* cleaning src
* installing the package to build vignettes
* creating vignettes ... OK
* cleaning src
* checking for LF line-endings in source and make files and shell scripts
* checking for empty or unneeded directories
* building ‘sva_3.43.0.tar.gz’