Back to Multiple platform build/check report for BioC 3.17:   simplified   long
ABCDEFGHIJKLMNOPQR[S]TUVWXYZ

This page was generated on 2023-02-04 11:05:52 -0500 (Sat, 04 Feb 2023).

HostnameOSArch (*)R versionInstalled pkgs
nebbiolo1Linux (Ubuntu 22.04.1 LTS)x86_64R Under development (unstable) (2023-01-10 r83596) -- "Unsuffered Consequences" 4483
palomino3Windows Server 2022 Datacenterx64R Under development (unstable) (2023-01-10 r83596 ucrt) -- "Unsuffered Consequences" 4249
merida1macOS 10.14.6 Mojavex86_64R Under development (unstable) (2023-01-10 r83596) -- "Unsuffered Consequences" 4272
Click on any hostname to see more info about the system (e.g. compilers)      (*) as reported by 'uname -p', except on Windows and Mac OS X

CHECK results for supraHex on palomino3


To the developers/maintainers of the supraHex package:
- Please allow up to 24 hours (and sometimes 48 hours) for your latest push to git@git.bioconductor.org:packages/supraHex.git to
reflect on this report. See How and When does the builder pull? When will my changes propagate? for more information.
- Make sure to use the following settings in order to reproduce any error or warning you see on this page.

raw results

Package 1982/2164HostnameOS / ArchINSTALLBUILDCHECKBUILD BIN
supraHex 1.37.0  (landing page)
Hai Fang
Snapshot Date: 2023-02-03 14:00:22 -0500 (Fri, 03 Feb 2023)
git_url: https://git.bioconductor.org/packages/supraHex
git_branch: master
git_last_commit: a854df8
git_last_commit_date: 2022-11-01 11:08:35 -0500 (Tue, 01 Nov 2022)
nebbiolo1Linux (Ubuntu 22.04.1 LTS) / x86_64  OK    OK    OK  UNNEEDED, same version is already published
palomino3Windows Server 2022 Datacenter / x64  OK    OK    OK    NA  
merida1macOS 10.14.6 Mojave / x86_64  OK    OK    OK    OK  UNNEEDED, same version is already published

Summary

Package: supraHex
Version: 1.37.0
Command: F:\biocbuild\bbs-3.17-bioc\R\bin\R.exe CMD check --no-multiarch --install=check:supraHex.install-out.txt --library=F:\biocbuild\bbs-3.17-bioc\R\library --no-vignettes --timings supraHex_1.37.0.tar.gz
StartedAt: 2023-02-04 07:09:15 -0500 (Sat, 04 Feb 2023)
EndedAt: 2023-02-04 07:11:04 -0500 (Sat, 04 Feb 2023)
EllapsedTime: 108.7 seconds
RetCode: 0
Status:   OK  
CheckDir: supraHex.Rcheck
Warnings: 0

Command output

##############################################################################
##############################################################################
###
### Running command:
###
###   F:\biocbuild\bbs-3.17-bioc\R\bin\R.exe CMD check --no-multiarch --install=check:supraHex.install-out.txt --library=F:\biocbuild\bbs-3.17-bioc\R\library --no-vignettes --timings supraHex_1.37.0.tar.gz
###
##############################################################################
##############################################################################


* using log directory 'F:/biocbuild/bbs-3.17-bioc/meat/supraHex.Rcheck'
* using R Under development (unstable) (2023-01-10 r83596 ucrt)
* using platform: x86_64-w64-mingw32 (64-bit)
* R was compiled by
    gcc.exe (GCC) 12.2.0
    GNU Fortran (GCC) 12.2.0
* running under: Windows Server x64 (build 20348)
* using session charset: UTF-8
* using option '--no-vignettes'
* checking for file 'supraHex/DESCRIPTION' ... OK
* checking extension type ... Package
* this is package 'supraHex' version '1.37.0'
* checking package namespace information ... OK
* checking package dependencies ... OK
* checking if this is a source package ... OK
* checking if there is a namespace ... OK
* checking for hidden files and directories ... OK
* checking for portable file names ... OK
* checking whether package 'supraHex' can be installed ... OK
* checking installed package size ... OK
* checking package directory ... OK
* checking 'build' directory ... OK
* checking DESCRIPTION meta-information ... OK
* checking top-level files ... OK
* checking for left-over files ... OK
* checking index information ... OK
* checking package subdirectories ... OK
* checking R files for non-ASCII characters ... OK
* checking R files for syntax errors ... OK
* checking whether the package can be loaded ... OK
* checking whether the package can be loaded with stated dependencies ... OK
* checking whether the package can be unloaded cleanly ... OK
* checking whether the namespace can be loaded with stated dependencies ... OK
* checking whether the namespace can be unloaded cleanly ... OK
* checking dependencies in R code ... OK
* checking S3 generic/method consistency ... OK
* checking replacement functions ... OK
* checking foreign function calls ... OK
* checking R code for possible problems ... OK
* checking Rd files ... OK
* checking Rd metadata ... OK
* checking Rd cross-references ... OK
* checking for missing documentation entries ... OK
* checking for code/documentation mismatches ... OK
* checking Rd \usage sections ... OK
* checking Rd contents ... OK
* checking for unstated dependencies in examples ... OK
* checking contents of 'data' directory ... OK
* checking data for non-ASCII characters ... OK
* checking data for ASCII and uncompressed saves ... OK
* checking sizes of PDF files under 'inst/doc' ... OK
* checking files in 'vignettes' ... OK
* checking examples ... OK
Examples with CPU (user + system) or elapsed time > 5s
               user system elapsed
visCompReorder 7.20   0.70    7.90
sCompReorder   5.42   0.11    5.53
visHexPattern  4.74   0.34    5.08
* checking for unstated dependencies in vignettes ... OK
* checking package vignettes in 'inst/doc' ... OK
* checking running R code from vignettes ... SKIPPED
* checking re-building of vignette outputs ... SKIPPED
* checking PDF version of manual ... OK
* DONE

Status: OK


Installation output

supraHex.Rcheck/00install.out

##############################################################################
##############################################################################
###
### Running command:
###
###   F:\biocbuild\bbs-3.17-bioc\R\bin\R.exe CMD INSTALL supraHex
###
##############################################################################
##############################################################################


* installing to library 'F:/biocbuild/bbs-3.17-bioc/R/library'
* installing *source* package 'supraHex' ...
** using staged installation
** R
** data
** inst
** byte-compile and prepare package for lazy loading
** help
*** installing help indices
** building package indices
** installing vignettes
** testing if installed package can be loaded from temporary location
** testing if installed package can be loaded from final location
** testing if installed package keeps a record of temporary installation path
* DONE (supraHex)

Tests output


Example timings

supraHex.Rcheck/supraHex-Ex.timings

nameusersystemelapsed
sBMH0.070.020.08
sCompReorder5.420.115.53
sDistance1.720.011.74
sDmat1.290.001.29
sDmatCluster1.540.031.57
sDmatMinima1.370.021.39
sHexDist0.000.010.01
sHexGrid000
sHexGridVariant000
sHexPolygon0.480.000.49
sInitial0.020.000.01
sMapOverlay1.440.001.44
sNeighAny0.010.000.02
sNeighDirect000
sPipeline0.020.000.01
sTopology0.030.050.08
sTrainBatch0.050.020.06
sTrainSeq0.430.010.46
sTrainology0.020.000.01
sWriteData1.720.051.74
visColoralpha000
visColorbar0.010.000.01
visColormap0.020.000.02
visCompReorder7.20.77.9
visDmatCluster000
visDmatHeatmap0.000.020.02
visHeatmap0.080.000.08
visHeatmapAdv0.310.000.31
visHexAnimate000
visHexBarplot4.050.044.09
visHexComp1.540.001.55
visHexGrid1.680.021.68
visHexMapping4.260.174.44
visHexMulComp4.200.114.31
visHexPattern4.740.345.08
visKernels0.050.000.05
visTreeBSclust000
visTreeBootstrap000
visVp0.010.020.03