Back to Multiple platform build/check report for BioC 3.17: simplified long |
|
This page was generated on 2023-02-04 11:05:15 -0500 (Sat, 04 Feb 2023).
Hostname | OS | Arch (*) | R version | Installed pkgs |
---|---|---|---|---|
nebbiolo1 | Linux (Ubuntu 22.04.1 LTS) | x86_64 | R Under development (unstable) (2023-01-10 r83596) -- "Unsuffered Consequences" | 4483 |
palomino3 | Windows Server 2022 Datacenter | x64 | R Under development (unstable) (2023-01-10 r83596 ucrt) -- "Unsuffered Consequences" | 4249 |
merida1 | macOS 10.14.6 Mojave | x86_64 | R Under development (unstable) (2023-01-10 r83596) -- "Unsuffered Consequences" | 4272 |
Click on any hostname to see more info about the system (e.g. compilers) (*) as reported by 'uname -p', except on Windows and Mac OS X |
To the developers/maintainers of the supraHex package: - Please allow up to 24 hours (and sometimes 48 hours) for your latest push to git@git.bioconductor.org:packages/supraHex.git to reflect on this report. See How and When does the builder pull? When will my changes propagate? for more information. - Make sure to use the following settings in order to reproduce any error or warning you see on this page. |
Package 1982/2164 | Hostname | OS / Arch | INSTALL | BUILD | CHECK | BUILD BIN | ||||||||
supraHex 1.37.0 (landing page) Hai Fang
| nebbiolo1 | Linux (Ubuntu 22.04.1 LTS) / x86_64 | OK | OK | OK | ![]() | ||||||||
palomino3 | Windows Server 2022 Datacenter / x64 | OK | OK | OK | NA | |||||||||
merida1 | macOS 10.14.6 Mojave / x86_64 | OK | OK | OK | OK | ![]() | ||||||||
Package: supraHex |
Version: 1.37.0 |
Command: /home/biocbuild/bbs-3.17-bioc/R/bin/R CMD check --install=check:supraHex.install-out.txt --library=/home/biocbuild/bbs-3.17-bioc/R/library --timings supraHex_1.37.0.tar.gz |
StartedAt: 2023-02-04 00:22:25 -0500 (Sat, 04 Feb 2023) |
EndedAt: 2023-02-04 00:24:09 -0500 (Sat, 04 Feb 2023) |
EllapsedTime: 104.6 seconds |
RetCode: 0 |
Status: OK |
CheckDir: supraHex.Rcheck |
Warnings: 0 |
############################################################################## ############################################################################## ### ### Running command: ### ### /home/biocbuild/bbs-3.17-bioc/R/bin/R CMD check --install=check:supraHex.install-out.txt --library=/home/biocbuild/bbs-3.17-bioc/R/library --timings supraHex_1.37.0.tar.gz ### ############################################################################## ############################################################################## * using log directory ‘/home/biocbuild/bbs-3.17-bioc/meat/supraHex.Rcheck’ * using R Under development (unstable) (2023-01-10 r83596) * using platform: x86_64-pc-linux-gnu (64-bit) * R was compiled by gcc (Ubuntu 11.3.0-1ubuntu1~22.04) 11.3.0 GNU Fortran (Ubuntu 11.3.0-1ubuntu1~22.04) 11.3.0 * running under: Ubuntu 22.04.1 LTS * using session charset: UTF-8 * checking for file ‘supraHex/DESCRIPTION’ ... OK * checking extension type ... Package * this is package ‘supraHex’ version ‘1.37.0’ * checking package namespace information ... OK * checking package dependencies ... OK * checking if this is a source package ... OK * checking if there is a namespace ... OK * checking for hidden files and directories ... OK * checking for portable file names ... OK * checking for sufficient/correct file permissions ... OK * checking whether package ‘supraHex’ can be installed ... OK * checking installed package size ... OK * checking package directory ... OK * checking ‘build’ directory ... OK * checking DESCRIPTION meta-information ... OK * checking top-level files ... OK * checking for left-over files ... OK * checking index information ... OK * checking package subdirectories ... OK * checking R files for non-ASCII characters ... OK * checking R files for syntax errors ... OK * checking whether the package can be loaded ... OK * checking whether the package can be loaded with stated dependencies ... OK * checking whether the package can be unloaded cleanly ... OK * checking whether the namespace can be loaded with stated dependencies ... OK * checking whether the namespace can be unloaded cleanly ... OK * checking dependencies in R code ... OK * checking S3 generic/method consistency ... OK * checking replacement functions ... OK * checking foreign function calls ... OK * checking R code for possible problems ... OK * checking Rd files ... OK * checking Rd metadata ... OK * checking Rd cross-references ... OK * checking for missing documentation entries ... OK * checking for code/documentation mismatches ... OK * checking Rd \usage sections ... OK * checking Rd contents ... OK * checking for unstated dependencies in examples ... OK * checking contents of ‘data’ directory ... OK * checking data for non-ASCII characters ... OK * checking data for ASCII and uncompressed saves ... OK * checking files in ‘vignettes’ ... OK * checking examples ... OK Examples with CPU (user + system) or elapsed time > 5s user system elapsed visCompReorder 6.276 0.08 6.355 * checking for unstated dependencies in vignettes ... OK * checking package vignettes in ‘inst/doc’ ... OK * checking running R code from vignettes ... ‘supraHex_vignettes.Rnw’... OK OK * checking re-building of vignette outputs ... OK * checking PDF version of manual ... OK * DONE Status: OK
supraHex.Rcheck/00install.out
############################################################################## ############################################################################## ### ### Running command: ### ### /home/biocbuild/bbs-3.17-bioc/R/bin/R CMD INSTALL supraHex ### ############################################################################## ############################################################################## * installing to library ‘/home/biocbuild/bbs-3.17-bioc/R/library’ * installing *source* package ‘supraHex’ ... ** using staged installation ** R ** data ** inst ** byte-compile and prepare package for lazy loading ** help *** installing help indices ** building package indices ** installing vignettes ** testing if installed package can be loaded from temporary location ** testing if installed package can be loaded from final location ** testing if installed package keeps a record of temporary installation path * DONE (supraHex)
supraHex.Rcheck/supraHex-Ex.timings
name | user | system | elapsed | |
sBMH | 0.050 | 0.005 | 0.056 | |
sCompReorder | 4.479 | 0.029 | 4.508 | |
sDistance | 1.468 | 0.016 | 1.485 | |
sDmat | 1.279 | 0.004 | 1.282 | |
sDmatCluster | 1.383 | 0.032 | 1.415 | |
sDmatMinima | 1.31 | 0.00 | 1.31 | |
sHexDist | 0.003 | 0.004 | 0.007 | |
sHexGrid | 0.000 | 0.001 | 0.001 | |
sHexGridVariant | 0.000 | 0.002 | 0.002 | |
sHexPolygon | 0.400 | 0.003 | 0.403 | |
sInitial | 0.006 | 0.000 | 0.007 | |
sMapOverlay | 1.380 | 0.020 | 1.399 | |
sNeighAny | 0.011 | 0.000 | 0.011 | |
sNeighDirect | 0.007 | 0.000 | 0.007 | |
sPipeline | 0.001 | 0.000 | 0.000 | |
sTopology | 0.022 | 0.012 | 0.034 | |
sTrainBatch | 0.029 | 0.008 | 0.037 | |
sTrainSeq | 0.265 | 0.008 | 0.273 | |
sTrainology | 0.007 | 0.000 | 0.007 | |
sWriteData | 1.682 | 0.010 | 1.708 | |
visColoralpha | 0.003 | 0.000 | 0.003 | |
visColorbar | 0.027 | 0.000 | 0.026 | |
visColormap | 0.002 | 0.000 | 0.003 | |
visCompReorder | 6.276 | 0.080 | 6.355 | |
visDmatCluster | 0.001 | 0.000 | 0.001 | |
visDmatHeatmap | 0.001 | 0.000 | 0.001 | |
visHeatmap | 0.074 | 0.000 | 0.074 | |
visHeatmapAdv | 0.304 | 0.000 | 0.305 | |
visHexAnimate | 0.002 | 0.000 | 0.001 | |
visHexBarplot | 3.751 | 0.048 | 3.799 | |
visHexComp | 1.376 | 0.008 | 1.384 | |
visHexGrid | 1.401 | 0.008 | 1.409 | |
visHexMapping | 4.819 | 0.072 | 4.891 | |
visHexMulComp | 4.252 | 0.024 | 4.277 | |
visHexPattern | 4.707 | 0.060 | 4.767 | |
visKernels | 0.005 | 0.008 | 0.012 | |
visTreeBSclust | 0.001 | 0.000 | 0.001 | |
visTreeBootstrap | 0.001 | 0.000 | 0.000 | |
visVp | 0.015 | 0.000 | 0.016 | |