![]() | Name | Last modified | Size | Description |
---|---|---|---|---|
![]() | Parent Directory | - | ||
![]() | buildbin-out.txt | 03-Oct-2023 00:39 | 1.2K | |
![]() | buildbin-summary.dcf | 03-Oct-2023 00:39 | 566 | |
![]() | buildsrc-out.txt | 03-Oct-2023 00:39 | 903 | |
![]() | buildsrc-summary.dcf | 03-Oct-2023 00:39 | 446 | |
![]() | checksrc-out.txt | 03-Oct-2023 00:39 | 3.6K | |
![]() | checksrc-summary.dcf | 03-Oct-2023 00:39 | 468 | |
![]() | install-out.txt | 03-Oct-2023 00:39 | 1.0K | |
![]() | install-summary.dcf | 03-Oct-2023 00:39 | 281 | |