Back to Multiple platform build/check report for BioC 3.17:   simplified   long
ABCDEFGHIJKLMNOPQR[S]TUVWXYZ

This page was generated on 2023-03-22 11:05:32 -0400 (Wed, 22 Mar 2023).

HostnameOSArch (*)R versionInstalled pkgs
nebbiolo1Linux (Ubuntu 22.04.1 LTS)x86_64R Under development (unstable) (2023-03-16 r83996) -- "Unsuffered Consequences" 4508
palomino3Windows Server 2022 Datacenterx64R Under development (unstable) (2023-03-15 r83984 ucrt) -- "Unsuffered Consequences" 4293
merida1macOS 10.14.6 Mojavex86_64R Under development (unstable) (2023-03-16 r83985) -- "Unsuffered Consequences" 4290
Click on any hostname to see more info about the system (e.g. compilers)      (*) as reported by 'uname -p', except on Windows and Mac OS X

CHECK results for structToolbox on nebbiolo1


To the developers/maintainers of the structToolbox package:
- Please allow up to 24 hours (and sometimes 48 hours) for your latest push to git@git.bioconductor.org:packages/structToolbox.git to
reflect on this report. See How and When does the builder pull? When will my changes propagate? for more information.
- Make sure to use the following settings in order to reproduce any error or warning you see on this page.

raw results

Package 1997/2189HostnameOS / ArchINSTALLBUILDCHECKBUILD BIN
structToolbox 1.11.0  (landing page)
Gavin Rhys Lloyd
Snapshot Date: 2023-03-21 14:00:22 -0400 (Tue, 21 Mar 2023)
git_url: https://git.bioconductor.org/packages/structToolbox
git_branch: master
git_last_commit: 07fde4b
git_last_commit_date: 2022-11-01 11:21:15 -0400 (Tue, 01 Nov 2022)
nebbiolo1Linux (Ubuntu 22.04.1 LTS) / x86_64  OK    OK    OK  UNNEEDED, same version is already published
palomino3Windows Server 2022 Datacenter / x64  OK    OK    OK    OK  UNNEEDED, same version is already published
merida1macOS 10.14.6 Mojave / x86_64  OK    OK    OK    OK  UNNEEDED, same version is already published

Summary

Package: structToolbox
Version: 1.11.0
Command: /home/biocbuild/bbs-3.17-bioc/R/bin/R CMD check --install=check:structToolbox.install-out.txt --library=/home/biocbuild/bbs-3.17-bioc/R/site-library --timings structToolbox_1.11.0.tar.gz
StartedAt: 2023-03-22 00:20:39 -0400 (Wed, 22 Mar 2023)
EndedAt: 2023-03-22 00:39:16 -0400 (Wed, 22 Mar 2023)
EllapsedTime: 1116.9 seconds
RetCode: 0
Status:   OK  
CheckDir: structToolbox.Rcheck
Warnings: 0

Command output

##############################################################################
##############################################################################
###
### Running command:
###
###   /home/biocbuild/bbs-3.17-bioc/R/bin/R CMD check --install=check:structToolbox.install-out.txt --library=/home/biocbuild/bbs-3.17-bioc/R/site-library --timings structToolbox_1.11.0.tar.gz
###
##############################################################################
##############################################################################


* using log directory ‘/home/biocbuild/bbs-3.17-bioc/meat/structToolbox.Rcheck’
* using R Under development (unstable) (2023-03-16 r83996)
* using platform: x86_64-pc-linux-gnu (64-bit)
* R was compiled by
    gcc (Ubuntu 11.3.0-1ubuntu1~22.04) 11.3.0
    GNU Fortran (Ubuntu 11.3.0-1ubuntu1~22.04) 11.3.0
* running under: Ubuntu 22.04.2 LTS
* using session charset: UTF-8
* checking for file ‘structToolbox/DESCRIPTION’ ... OK
* checking extension type ... Package
* this is package ‘structToolbox’ version ‘1.11.0’
* package encoding: UTF-8
* checking package namespace information ... OK
* checking package dependencies ... OK
* checking if this is a source package ... OK
* checking if there is a namespace ... OK
* checking for hidden files and directories ... OK
* checking for portable file names ... OK
* checking for sufficient/correct file permissions ... OK
* checking whether package ‘structToolbox’ can be installed ... OK
* checking installed package size ... OK
* checking package directory ... OK
* checking ‘build’ directory ... OK
* checking DESCRIPTION meta-information ... OK
* checking top-level files ... OK
* checking for left-over files ... OK
* checking index information ... OK
* checking package subdirectories ... OK
* checking R files for non-ASCII characters ... OK
* checking R files for syntax errors ... OK
* checking whether the package can be loaded ... OK
* checking whether the package can be loaded with stated dependencies ... OK
* checking whether the package can be unloaded cleanly ... OK
* checking whether the namespace can be loaded with stated dependencies ... OK
* checking whether the namespace can be unloaded cleanly ... OK
* checking loading without being on the library search path ... OK
* checking dependencies in R code ... OK
* checking S3 generic/method consistency ... OK
* checking replacement functions ... OK
* checking foreign function calls ... OK
* checking R code for possible problems ... OK
* checking Rd files ... OK
* checking Rd metadata ... OK
* checking Rd cross-references ... OK
* checking for missing documentation entries ... OK
* checking for code/documentation mismatches ... OK
* checking Rd \usage sections ... OK
* checking Rd contents ... OK
* checking for unstated dependencies in examples ... OK
* checking R/sysdata.rda ... OK
* checking files in ‘vignettes’ ... OK
* checking examples ... OK
Examples with CPU (user + system) or elapsed time > 5s
                            user system elapsed
fold_change_int           17.677  0.095  17.772
fold_change               10.295  0.097  10.390
fisher_exact               9.832  0.099   9.932
fs_line                    5.848  0.056   5.904
forward_selection_by_rank  5.633  0.032   5.665
* checking for unstated dependencies in ‘tests’ ... OK
* checking tests ...
  Running ‘testthat.R’
 OK
* checking for unstated dependencies in vignettes ... OK
* checking package vignettes in ‘inst/doc’ ... OK
* checking running R code from vignettes ...
  ‘data_analysis_omics_using_the_structtoolbox.Rmd’ using ‘UTF-8’... OK
 NONE
* checking re-building of vignette outputs ... OK
* checking PDF version of manual ... OK
* DONE

Status: OK


Installation output

structToolbox.Rcheck/00install.out

##############################################################################
##############################################################################
###
### Running command:
###
###   /home/biocbuild/bbs-3.17-bioc/R/bin/R CMD INSTALL structToolbox
###
##############################################################################
##############################################################################


* installing to library ‘/home/biocbuild/bbs-3.17-bioc/R/site-library’
* installing *source* package ‘structToolbox’ ...
** using staged installation
** R
** inst
** byte-compile and prepare package for lazy loading
** help
*** installing help indices
** building package indices
** installing vignettes
** testing if installed package can be loaded from temporary location
** testing if installed package can be loaded from final location
** testing if installed package keeps a record of temporary installation path
* DONE (structToolbox)

Tests output

structToolbox.Rcheck/tests/testthat.Rout


R Under development (unstable) (2023-03-16 r83996) -- "Unsuffered Consequences"
Copyright (C) 2023 The R Foundation for Statistical Computing
Platform: x86_64-pc-linux-gnu (64-bit)

R is free software and comes with ABSOLUTELY NO WARRANTY.
You are welcome to redistribute it under certain conditions.
Type 'license()' or 'licence()' for distribution details.

R is a collaborative project with many contributors.
Type 'contributors()' for more information and
'citation()' on how to cite R or R packages in publications.

Type 'demo()' for some demos, 'help()' for on-line help, or
'help.start()' for an HTML browser interface to help.
Type 'q()' to quit R.

> library(testthat)
> library(ggplot2)
> library(structToolbox)
Loading required package: struct
> 
> test_check("structToolbox")
[ FAIL 0 | WARN 7 | SKIP 0 | PASS 124 ]

[ FAIL 0 | WARN 7 | SKIP 0 | PASS 124 ]
> 
> proc.time()
   user  system elapsed 
169.077   1.640 170.747 

Example timings

structToolbox.Rcheck/structToolbox-Ex.timings

nameusersystemelapsed
ANOVA0.1640.0040.168
AUC1.8260.2362.062
DFA0.1730.0040.177
DatasetExperiment_boxplot1.4970.1171.613
DatasetExperiment_dist1.7430.0351.778
DatasetExperiment_factor_boxplot0.1880.0000.188
DatasetExperiment_heatmap0.2560.0000.256
HCA0.0520.0000.052
HSD0.3580.0110.371
HSDEM0.4030.0120.415
MTBLS79_DatasetExperiment0.0010.0010.001
PCA0.0040.0000.004
PLSDA0.0110.0040.015
PLSR0.0050.0000.004
SVM0.0080.0040.011
as_data_frame0.1060.0160.121
autoscale0.0630.0030.067
balanced_accuracy1.6430.0711.715
blank_filter0.3230.0000.324
blank_filter_hist0.0000.0000.001
bootstrap0.0050.0000.005
calculate0.0010.0040.005
chart_plot0.0250.0000.025
classical_lsq0.2650.0070.273
compare_dist4.3670.2394.609
confounders_clsq2.7960.0122.807
confounders_lsq_barchart2.7050.0392.745
confounders_lsq_boxplot2.8830.0722.955
constant_sum_norm0.0040.0000.005
corr_coef0.2350.0010.236
dfa_scores_plot0.6130.0110.625
dratio_filter0.4900.0280.518
equal_split0.1170.0040.121
feature_boxplot0.0110.0040.016
feature_profile0.3570.0000.358
feature_profile_array0.4960.0040.500
filter_by_name0.0250.0010.024
filter_na_count0.8460.0110.858
filter_smeta0.0560.0000.056
fisher_exact9.8320.0999.932
fold_change10.295 0.09710.390
fold_change_int17.677 0.09517.772
fold_change_plot0.0040.0000.004
forward_selection_by_rank5.6330.0325.665
fs_line5.8480.0565.904
glog_opt_plot0.5030.0000.503
glog_transform0.2880.0000.288
grid_search_1d3.9570.1674.126
gs_line0.0000.0000.001
hca_dendrogram0.0010.0000.000
kfold_xval3.0120.0073.019
kfoldxcv_grid3.570.043.61
kfoldxcv_metric0.0010.0000.001
knn_impute0.0060.0000.006
kw_p_hist0.0000.0000.001
kw_rank_sum0.0640.0000.065
linear_model0.0210.0000.022
log_transform0.0040.0000.004
mean_centre0.0010.0000.001
mean_of_medians0.1060.0000.106
mixed_effect0.1380.0030.142
model_apply0.0220.0000.022
model_predict0.0510.0000.051
model_reverse0.0390.0000.039
model_train0.0450.0040.047
mv_boxplot0.2550.0000.254
mv_feature_filter0.0990.0000.099
mv_feature_filter_hist0.0010.0000.001
mv_histogram0.2330.0000.233
mv_sample_filter0.0050.0000.005
mv_sample_filter_hist0.0000.0000.001
nroot_transform0.0040.0000.004
ontology_cache0.0000.0000.001
pairs_filter0.0050.0000.005
pareto_scale0.0470.0030.051
pca_biplot0.0070.0000.007
pca_correlation_plot0.0030.0000.003
pca_dstat_plot0.0050.0000.004
pca_loadings_plot0.0050.0000.005
pca_scores_plot0.5160.0000.515
pca_scree_plot0.0010.0000.001
permutation_test0.0040.0030.007
permutation_test_plot0.0040.0010.003
permute_sample_order0.0050.0000.005
pls_regcoeff_plot0.3450.0040.350
pls_scores_plot0.6530.0000.653
pls_vip_plot0.3230.0000.324
plsda_feature_importance_plot0.5440.0070.552
plsda_predicted_plot0.4330.0070.440
plsda_roc_plot0.9840.0080.992
plsr_cook_dist0.0040.0000.005
plsr_prediction_plot0.0040.0000.004
plsr_qq_plot0.0040.0010.004
plsr_residual_hist0.0030.0000.003
pqn_norm0.3260.0000.326
pqn_norm_hist0.0010.0000.000
prop_na0.0050.0000.005
r_squared0.0010.0000.001
resample0.0080.0000.007
resample_chart0.0030.0000.003
rsd_filter0.0070.0000.007
rsd_filter_hist0.0000.0000.001
run0.0260.0000.026
sb_corr0.0120.0000.012
scatter_chart0.3300.0000.331
split_data0.0040.0000.004
stratified_split0.1030.0030.107
svm_plot_2d0.6260.0080.704
tSNE0.0120.0000.012
tSNE_scatter0.0040.0000.004
tic_chart0.2040.0070.212
ttest0.0090.0000.009
vec_norm0.0000.0000.001
wilcox_p_hist0.0010.0000.001
wilcox_test0.0090.0000.009