Back to Multiple platform build/check report for BioC 3.15
ABCDEFGHIJKLMNOPQR[S]TUVWXYZ

This page was generated on 2022-01-22 11:07:44 -0500 (Sat, 22 Jan 2022).

HostnameOSArch (*)R versionInstalled pkgs
nebbiolo1Linux (Ubuntu 20.04.4 LTS)x86_64R Under development (unstable) (2022-01-05 r81451) -- "Unsuffered Consequences" 4163
riesling1Windows Server 2019 Standardx64R Under development (unstable) (2021-11-21 r81221) -- "Unsuffered Consequences" 4058
palomino3Windows Server 2022 Datacenterx64R Under development (unstable) (2021-12-21 r81400 ucrt) -- "Unsuffered Consequences" 4000
merida1macOS 10.14.6 Mojavex86_64R Under development (unstable) (2022-01-05 r81451) -- "Unsuffered Consequences" 4117
Click on any hostname to see more info about the system (e.g. compilers)      (*) as reported by 'uname -p', except on Windows and Mac OS X

INSTALL results for staRank on riesling1


To the developers/maintainers of the staRank package:
- Please allow up to 24 hours (and sometimes 48 hours) for your latest push to git@git.bioconductor.org:packages/staRank.git to
reflect on this report. See How and When does the builder pull? When will my changes propagate? here for more information.
- Make sure to use the following settings in order to reproduce any error or warning you see on this page.

raw results

Package 1878/2075HostnameOS / ArchINSTALLBUILDCHECKBUILD BIN
staRank 1.37.0  (landing page)
Juliane Siebourg
Snapshot Date: 2022-01-21 13:55:18 -0500 (Fri, 21 Jan 2022)
git_url: https://git.bioconductor.org/packages/staRank
git_branch: master
git_last_commit: fcb90d7
git_last_commit_date: 2021-10-26 12:03:13 -0500 (Tue, 26 Oct 2021)
nebbiolo1Linux (Ubuntu 20.04.4 LTS) / x86_64  OK    OK    OK  UNNEEDED, same version is already published
riesling1Windows Server 2019 Standard / x64  OK    OK    NA    NA  
palomino3Windows Server 2022 Datacenter / x64  OK    OK    OK    OK  NO, package depends on 'cellHTS2' which is not available
merida1macOS 10.14.6 Mojave / x86_64  OK    OK    OK    OK  UNNEEDED, same version is already published

Summary

Package: staRank
Version: 1.37.0
Command: D:\biocbuild\bbs-3.15-bioc\R\bin\R.exe CMD INSTALL staRank
StartedAt: 2022-01-21 15:58:47 -0500 (Fri, 21 Jan 2022)
EndedAt: 2022-01-21 15:59:54 -0500 (Fri, 21 Jan 2022)
EllapsedTime: 66.3 seconds
RetCode: 0
Status:   OK  

Command output

##############################################################################
##############################################################################
###
### Running command:
###
###   D:\biocbuild\bbs-3.15-bioc\R\bin\R.exe CMD INSTALL staRank
###
##############################################################################
##############################################################################


* installing to library 'D:/biocbuild/bbs-3.15-bioc/R/library'
* installing *source* package 'staRank' ...
** using staged installation
** R
** data
** inst
** byte-compile and prepare package for lazy loading
** help
*** installing help indices
  converting help for package 'staRank'
    finding HTML links ... done
    Pi-methods                              html  
    RankSummary-class                       html  
    aggregRank                              html  
    avrgRank-methods                        html  
    baseRank-methods                        html  
    dataFormatRSA                           html  
    getRankmatrix                           html  
    getSampleScores-methods                 html  
    getStability                            html  
    method-methods                          html  
    mwTest2samp                             html  
    rankCor-methods                         html  
    runRSA                                  html  
    salmonellaInfection                     html  
    salmonellaStability                     html  
    show-methods                            html  
    staRank-package                         html  
    stabRank-methods                        html  
    stabilityRanking-methods                html  
    stableSetSize-methods                   html  
    summary-methods                         html  
    summaryStats-methods                    html  
    uniqueRSARanking                        html  
** building package indices
** installing vignettes
** testing if installed package can be loaded from temporary location
** testing if installed package can be loaded from final location
** testing if installed package keeps a record of temporary installation path
* DONE (staRank)
Making 'packages.html' ...Warning in packageDescription(i, lib.loc = lib, fields = "Title", encoding = "UTF-8") :
  DESCRIPTION file of package 'RegEnrich' is missing or broken
 done