Index of /checkResults/devel/bioc-LATEST/staRank/raw-results/nebbiolo2

[ICO]NameLast modifiedSizeDescription

[DIR]Parent Directory  -  
[TXT]buildsrc-out.txt23-Jul-2024 01:44 881  
[   ]buildsrc-summary.dcf23-Jul-2024 01:44 338  
[TXT]checksrc-out.txt04-Jul-2024 00:39 4.6K 
[   ]checksrc-summary.dcf04-Jul-2024 00:39 414  
[TXT]install-out.txt23-Jul-2024 01:44 636  
[   ]install-summary.dcf23-Jul-2024 01:44 261