Index of /checkResults/devel/bioc-LATEST/staRank/raw-results/kunpeng2

[ICO]NameLast modifiedSizeDescription

[DIR]Parent Directory  -  
[TXT]buildsrc-out.txt09-Jul-2024 00:45 878  
[   ]buildsrc-summary.dcf09-Jul-2024 00:45 320  
[TXT]install-out.txt06-Jul-2024 00:45 612  
[   ]install-summary.dcf06-Jul-2024 00:45 249