Index of /checkResults/devel/bioc-LATEST/staRank/raw-results/kjohnson3

[ICO]NameLast modifiedSizeDescription

[DIR]Parent Directory  -  
[TXT]buildsrc-out.txt18-Jul-2024 00:43 936  
[   ]buildsrc-summary.dcf18-Jul-2024 00:43 342  
[TXT]install-out.txt18-Jul-2024 00:43 694  
[   ]install-summary.dcf18-Jul-2024 00:43 271